BEGIN:VCALENDAR
VERSION:2.0
PRODID:-//ChamberMaster//Event Calendar 2.0//EN
METHOD:PUBLISH
X-PUBLISHED-TTL:P3D
REFRESH-INTERVAL:P3D
CALSCALE:GREGORIAN
BEGIN:VEVENT
DTSTART;VALUE=DATE:20171009
DTEND;VALUE=DATE:20171010
TRANSP:TRANSPARENT
X-MICROSOFT-CDO-ALLDAYEVENT:TRUE
SUMMARY:12TH Annual Food Festival
DESCRIPTION:PAL is having the 12th Annual Food Festival. This event  supports all of the PAL athletic programs and helps the goal of investing in the children of the community. There will be a large variety of food and beverage vendors that will be joining also and a silent auction\, 50/50 and a basket raffle!\n\nThis years theme will be Fall Harvest!
X-ALT-DESC;FMTTYPE=text/html:PAL is having the 12th Annual Food Festival. This event &nbsp\;supports all of the PAL athletic programs and helps the goal of investing in the children of the community. There will be a large variety of food and beverage vendors that will be joining also and a silent auction\, 50/50 and a basket raffle!<br />\nThis years theme will be Fall Harvest!
LOCATION:Sunnybrook Ball Room- 50 Sunnybrook Rd\, Pottstown\, PA 19464
UID:e.2183.848776
SEQUENCE:3
DTSTAMP:20260421T042932Z
URL:https://business.tricountyareachamber.com/events/details/12th-annual-food-festival-848776
END:VEVENT

END:VCALENDAR
