BEGIN:VCALENDAR
VERSION:2.0
PRODID:-//ChamberMaster//Event Calendar 2.0//EN
METHOD:PUBLISH
X-PUBLISHED-TTL:P3D
REFRESH-INTERVAL:P3D
CALSCALE:GREGORIAN
BEGIN:VEVENT
DTSTART:20170318T140000Z
DTEND:20170318T170000Z
X-MICROSOFT-CDO-ALLDAYEVENT:FALSE
SUMMARY:12th Annual Wellness Fair
DESCRIPTION:Prizes\, Moon Bounce\, Live Demo's\, Break Out Sessions for Health & Wellness & More!\n\n\n\n50 Local Vendors expected to be there!\n\n\n\n9:30 AM - Running of the Bears\n\n10:30 AM - Senior Walking Bingo\n\n11 AM - Kids Celebrity Chef\, Community Voting\, Free Samples!\n\n12 PM - Free Rita's Water Ice
X-ALT-DESC;FMTTYPE=text/html:Prizes\, Moon Bounce\, Live Demo&#39\;s\, Break Out Sessions for Health &amp\; Wellness &amp\; More!<br />\n<br />\n50 Local Vendors expected to be there!<br />\n<br />\n9:30 AM - Running of the Bears<br />\n10:30 AM - Senior Walking Bingo<br />\n11 AM - Kids Celebrity Chef\, Community Voting\, Free Samples!<br />\n12 PM - Free Rita&#39\;s Water Ice
LOCATION:Boyertown Junior High West 10 AM - 1 PM
UID:e.2183.847566
SEQUENCE:3
DTSTAMP:20260420T164140Z
URL:https://business.tricountyareachamber.com/events/details/12th-annual-wellness-fair-847566
END:VEVENT

END:VCALENDAR
