BEGIN:VCALENDAR
VERSION:2.0
PRODID:-//ChamberMaster//Event Calendar 2.0//EN
METHOD:PUBLISH
X-PUBLISHED-TTL:P3D
REFRESH-INTERVAL:P3D
CALSCALE:GREGORIAN
BEGIN:VEVENT
DTSTART:20180317T140000Z
DTEND:20180317T170000Z
X-MICROSOFT-CDO-ALLDAYEVENT:FALSE
SUMMARY:13th Annual Wellness Fair
DESCRIPTION:Free food\, prizes\, moon bounce\, mini sessions on CPR and Health & Wellness Topics - and more!\n\n\n\n50 Local Vendors expected to be there!\n\n\n\n9:30 AM - Running of the Bears at the track\n\n10:30 AM - Senior Walking Bingo\n\n11 AM - Kids Celebrity Chef\, Community Voting\n\n12 PM - Free Rita's Water Ice\n\n12:30 PM - Door Prize Drawings
X-ALT-DESC;FMTTYPE=text/html:Free food\, prizes\, moon bounce\, mini sessions on CPR&nbsp\;and Health &amp\; Wellness Topics - and more!<br />\n<br />\n50 Local Vendors expected to be there!<br />\n<br />\n9:30 AM - Running of the Bears at the track<br />\n10:30 AM - Senior Walking Bingo<br />\n11 AM - Kids Celebrity Chef\, Community Voting<br />\n12 PM - Free Rita&#39\;s Water Ice<br />\n12:30 PM - Door Prize Drawings
LOCATION:Boyertown High School 120 N Monroe Street Boyertown\, PA 19512 (Enter & Park at new back athletic entrance)
UID:e.2183.849171
SEQUENCE:3
DTSTAMP:20260421T141754Z
URL:https://business.tricountyareachamber.com/events/details/13th-annual-wellness-fair-849171
END:VEVENT

END:VCALENDAR
