BEGIN:VCALENDAR
VERSION:2.0
PRODID:-//ChamberMaster//Event Calendar 2.0//EN
METHOD:PUBLISH
X-PUBLISHED-TTL:P3D
REFRESH-INTERVAL:P3D
CALSCALE:GREGORIAN
BEGIN:VEVENT
DTSTART:20170205T000000Z
DTEND:20170205T040000Z
X-MICROSOFT-CDO-ALLDAYEVENT:FALSE
SUMMARY:1960's-1970's Dance Party with AM Radio Band
DESCRIPTION:For the second time\, Pillars of Light and Love is hosting their hit event\, a 1960's-1970's Dance Party with oldies band\, AM Radio. The fundraiser benefits the Collegeville area 501c(3) Nonprofit which offers free workshops\, programs and support groups focused on helping to create happy\, confident and courageous youth and adults.\n\n\n\nGet your Bell Bottoms\, Platform Shoes\, Mini-Skirts\, Tie Dye outfits\, Leisure Suits\, Candie's shoes\, and get ready to Twist\, Disco\, Line Dance\, Do the Watusi and more! The Dance Party will be held on Saturday\, February 4 at Presidential Caterers\, East Norriton\, PA from 7 - 11 PM. Tickets are $40 in advance and $45 at the door. Buffet dinner is included.\n\n\n\nAM Radio\, a six-piece Retro Dance band hailing from the Philadelphia area\, will provide live music throughout the evening. There will be a cash bar\, prize raffle\, and 50/50 raffle.
X-ALT-DESC;FMTTYPE=text/html:<span style="color: rgb(0\, 0\, 0)\; font-family: Arial\, Helvetica\, sans-serif\; font-size: 12px\;">For the second time\, Pillars of Light and Love is hosting their hit event\, a 1960&#39\;s-1970&#39\;s Dance Party with oldies band\, AM Radio. The fundraiser benefits the Collegeville&nbsp\;area 501c(3) Nonprofit which offers free workshops\, programs and support groups focused on helping to create happy\, confident and courageous youth and adults.</span><br style="bottom: auto\; box-sizing: content-box\; clear: none\; color: rgb(0\, 0\, 0)\; content: normal\; direction: inherit\; display: inline\; empty-cells: show\; float: none\; font-variant-numeric: inherit\; font-stretch: inherit\; font-size: 12px\; font-family: Arial\, Helvetica\, sans-serif\; left: auto\; line-height: inherit\; margin: 0px\; max-height: none\; max-width: none\; min-height: initial\; min-width: initial\; opacity: 1\; outline-offset: 0px\; overflow: visible\; padding: 0px\; position: static\; resize: none\; right: auto\; table-layout: auto\; text-overflow: clip\; top: auto\; vertical-align: baseline\; visibility: inherit\; word-break: inherit\; word-wrap: inherit\; z-index: auto\; background-image: none\; background-position: initial\; background-size: initial\; background-repeat: initial\; background-attachment: initial\; background-origin: initial\; background-clip: initial\; border: none\; border-collapse: separate\; border-radius: 0px\; height: auto\; width: auto\;" />\n<br style="bottom: auto\; box-sizing: content-box\; clear: none\; color: rgb(0\, 0\, 0)\; content: normal\; direction: inherit\; display: inline\; empty-cells: show\; float: none\; font-variant-numeric: inherit\; font-stretch: inherit\; font-size: 12px\; font-family: Arial\, Helvetica\, sans-serif\; left: auto\; line-height: inherit\; margin: 0px\; max-height: none\; max-width: none\; min-height: initial\; min-width: initial\; opacity: 1\; outline-offset: 0px\; overflow: visible\; padding: 0px\; position: static\; resize: none\; right: auto\; table-layout: auto\; text-overflow: clip\; top: auto\; vertical-align: baseline\; visibility: inherit\; word-break: inherit\; word-wrap: inherit\; z-index: auto\; background-image: none\; background-position: initial\; background-size: initial\; background-repeat: initial\; background-attachment: initial\; background-origin: initial\; background-clip: initial\; border: none\; border-collapse: separate\; border-radius: 0px\; height: auto\; width: auto\;" />\n<span style="color: rgb(0\, 0\, 0)\; font-family: Arial\, Helvetica\, sans-serif\; font-size: 12px\;">Get your Bell Bottoms\, Platform Shoes\, Mini-Skirts\, Tie Dye outfits\, Leisure Suits\, Candie&#39\;s shoes\, and get ready to Twist\, Disco\, Line Dance\, Do the Watusi and more! The Dance Party will be held on Saturday\, February 4 at Presidential Caterers\, East Norriton\, PA from 7 - 11 PM. Tickets are $40 in advance and $45 at the door. Buffet dinner is included.</span><br style="bottom: auto\; box-sizing: content-box\; clear: none\; color: rgb(0\, 0\, 0)\; content: normal\; direction: inherit\; display: inline\; empty-cells: show\; float: none\; font-variant-numeric: inherit\; font-stretch: inherit\; font-size: 12px\; font-family: Arial\, Helvetica\, sans-serif\; left: auto\; line-height: inherit\; margin: 0px\; max-height: none\; max-width: none\; min-height: initial\; min-width: initial\; opacity: 1\; outline-offset: 0px\; overflow: visible\; padding: 0px\; position: static\; resize: none\; right: auto\; table-layout: auto\; text-overflow: clip\; top: auto\; vertical-align: baseline\; visibility: inherit\; word-break: inherit\; word-wrap: inherit\; z-index: auto\; background-image: none\; background-position: initial\; background-size: initial\; background-repeat: initial\; background-attachment: initial\; background-origin: initial\; background-clip: initial\; border: none\; border-collapse: separate\; border-radius: 0px\; height: auto\; width: auto\;" />\n<br style="bottom: auto\; box-sizing: content-box\; clear: none\; color: rgb(0\, 0\, 0)\; content: normal\; direction: inherit\; display: inline\; empty-cells: show\; float: none\; font-variant-numeric: inherit\; font-stretch: inherit\; font-size: 12px\; font-family: Arial\, Helvetica\, sans-serif\; left: auto\; line-height: inherit\; margin: 0px\; max-height: none\; max-width: none\; min-height: initial\; min-width: initial\; opacity: 1\; outline-offset: 0px\; overflow: visible\; padding: 0px\; position: static\; resize: none\; right: auto\; table-layout: auto\; text-overflow: clip\; top: auto\; vertical-align: baseline\; visibility: inherit\; word-break: inherit\; word-wrap: inherit\; z-index: auto\; background-image: none\; background-position: initial\; background-size: initial\; background-repeat: initial\; background-attachment: initial\; background-origin: initial\; background-clip: initial\; border: none\; border-collapse: separate\; border-radius: 0px\; height: auto\; width: auto\;" />\n<span style="color: rgb(0\, 0\, 0)\; font-family: Arial\, Helvetica\, sans-serif\; font-size: 12px\;">AM Radio\, a six-piece Retro Dance band hailing from the Philadelphia area\, will provide live music throughout the evening. There will be a cash bar\, prize raffle\, and 50/50 raffle.</span>
LOCATION:Presidential Caterers 2910 Dekalb Pike Norristown\, PA 19401
UID:e.2183.847419
SEQUENCE:3
DTSTAMP:20260420T164627Z
URL:https://business.tricountyareachamber.com/events/details/1960-s-1970-s-dance-party-with-am-radio-band-847419
END:VEVENT

END:VCALENDAR
