BEGIN:VCALENDAR
VERSION:2.0
PRODID:-//ChamberMaster//Event Calendar 2.0//EN
METHOD:PUBLISH
X-PUBLISHED-TTL:P3D
REFRESH-INTERVAL:P3D
CALSCALE:GREGORIAN
BEGIN:VEVENT
DTSTART:20171104T130000Z
DTEND:20171104T160000Z
X-MICROSOFT-CDO-ALLDAYEVENT:FALSE
SUMMARY:19th Annual 5K Run
DESCRIPTION:The Vietnam Veterans of America (VVA)\, Valley Forge Chapter 349 is a nonprofit organization with the sole purpose of assisting those who served our country.  First and foremost we help military veterans whether physically\, mentally\, or emotionally to navigate the red tape of the Veterans Administration. The motto of the Vietnam Veterans is "Never again will one generation of veterans abandon another".  We hold our 5K Run/1 Mile Health Walk every year\, and this will be our 19th year.  The "Run" is scheduled to take place on Saturday November 5\, 2016 at 9:00a.m. The event will take place at the Norristown Farm Park\, a relatively new area of the Montgomery County Recreation & Parks System.  The Norristown Farm Park affords our Run/Walk a very safe\, scenic and challenging site.\n\n\n\nRegistration Closes November 3
X-ALT-DESC;FMTTYPE=text/html:<span style="color: rgb(16\, 99\, 134)\; font-family: &quot\;Open Sans&quot\;\, sans-serif\; font-size: 14px\; background-color: rgb(255\, 255\, 255)\;">The Vietnam Veterans of America (VVA)\, Valley Forge Chapter 349 is a nonprofit organization with the sole purpose of assisting those who served our country.&nbsp\; First and foremost we help military veterans whether physically\, mentally\, or emotionally to navigate the red tape of the Veterans Administration. The motto of the Vietnam Veterans is &ldquo\;Never again will one generation of veterans abandon another&rdquo\;.&nbsp\; We hold our 5K Run/1 Mile Health Walk every year\, and this will be our 19th year. &nbsp\;The &quot\;Run&quot\; is scheduled to take place on Saturday November 5\, 2016 at 9:00a.m. The event will take place at the Norristown Farm Park\, a relatively new area of the Montgomery County Recreation &amp\; Parks System. &nbsp\;The Norristown Farm Park affords our Run/Walk a very safe\, scenic and challenging site.<br />\n<br />\nRegistration Closes November 3</span>
LOCATION:Norristown Farm Park 2500 Upper Farm Rd Norristown\, PA US 19403
UID:e.2183.848844
SEQUENCE:3
DTSTAMP:20260421T060814Z
URL:https://business.tricountyareachamber.com/events/details/19th-annual-5k-run-848844
END:VEVENT

END:VCALENDAR
