BEGIN:VCALENDAR
VERSION:2.0
PRODID:-//ChamberMaster//Event Calendar 2.0//EN
METHOD:PUBLISH
X-PUBLISHED-TTL:P3D
REFRESH-INTERVAL:P3D
CALSCALE:GREGORIAN
BEGIN:VEVENT
DTSTART:20171210T180000Z
DTEND:20171210T220000Z
X-MICROSOFT-CDO-ALLDAYEVENT:FALSE
SUMMARY:1st Annual Historic Building Tour - A New Twist to the Historic House Tours
DESCRIPTION:Unlike the Historic House Tours\, this tour will take you back to the beginning of Pottstown's history and walk you through to present day. Enjoy pictures and stories from the past as you hear about the history of Pottstown's Downtown and surrounding area. Learn of the beautiful architecture and the re-invented uses of yesteryear's buildings. Tour will last about 1 1/2 hours and end at ARTFusion19464 where you will have the opportunity to shop from our local artists for unique\, handcrafted gifts! This tour will be walking through the downtown (about 3 blocks) and then a luxury van will take you to the surrounding areas.
X-ALT-DESC;FMTTYPE=text/html:Unlike the Historic House Tours\, this tour will take you back to the beginning of Pottstown&#39\;s history and walk you through to present day. Enjoy pictures and stories from the past as you hear about the history of Pottstown&#39\;s Downtown and surrounding area. Learn of the beautiful architecture&nbsp\;and the re-invented uses of yesteryear&#39\;s buildings. Tour will last about 1 1/2 hours and end at ARTFusion19464 where you will have the opportunity to shop from our local artists for unique\, handcrafted gifts! This tour will be walking through the downtown (about 3 blocks) and then a luxury van will take you to the surrounding areas.
LOCATION:Downtown Pottstown & surrounding area
UID:e.2183.848896
SEQUENCE:3
DTSTAMP:20260421T080453Z
URL:https://business.tricountyareachamber.com/events/details/1st-annual-historic-building-tour-a-new-twist-to-the-historic-house-tours-848896
END:VEVENT

END:VCALENDAR
