BEGIN:VCALENDAR
VERSION:2.0
PRODID:-//ChamberMaster//Event Calendar 2.0//EN
METHOD:PUBLISH
X-PUBLISHED-TTL:P3D
REFRESH-INTERVAL:P3D
CALSCALE:GREGORIAN
BEGIN:VEVENT
DTSTART:20170426T210000Z
DTEND:20170427T010000Z
X-MICROSOFT-CDO-ALLDAYEVENT:FALSE
SUMMARY:2017 Annual Dinner
DESCRIPTION:Please call 610.326.2900 if you would like to register.\n\n\n\nLeadership For A Lifetime...\n\nHow The Past Prepares Us For The Future\n\n\n\nPaul Butler - Instructor\, Speaker\, Emcee\, Consultant - will present "Leadership for a Lifetime." Paul's presentation will cover some of the most important leadership traits\, and how you can use the lessons of yesterday to overcome the challenges of today and capitalize on the opportunities of tomorrow. Click here to learn more about Paul . \n\n\n\nCongratulations to the 2017 "Chamber Stars" Award Winners:\n\n\n	Business/Enterprise of the Year - CEDARVILLE Engineering Group LLC\n	Nonprofit of the Year - Valley Forge Tourism & Convention Board\n	Ambassador of the Year - Russell Lowe\, Fraser Advanced Information Systems\n	Volunteer of the Year - April Barkasi\, CEDARVILLE Engineer Group LLC\n\n\n90th Anniversary Balloon Pop during the closing reception of the evening - 90 Balloons filled with prizes valued at a minimum of $25! Try your luck - purchase chances to pop a balloon for $20. Contact Kitty at 610.326.2900 to reserve your balloon today. \n\n\n\nMore information is located on the event page - click here to check it out!\n\n\n\nSponsorship opportunities  available - Contact Kitty Papp at 610-326-2900 or kitty@tricountyareachamber.com if you are interested.\n\n\nLast Call for Registrations is Monday\, April 17 by 12 noon!\n\n\n\nThank you to our Speaker Sponsor CODY Systems!
X-ALT-DESC;FMTTYPE=text/html:<p style="line-height: 20.8px\;"><span style="color: rgb(51\, 51\, 51)\; font-family: Verdana\, sans-serif\; text-align: center\; background-color: rgb(255\, 255\, 255)\; font-weight: bold\; font-size: 15.3333px\;">Please call 610.326.2900 if you would like to register.<br />\n<br />\nLeadership For A Lifetime...</span><br style="color: rgb(51\, 51\, 51)\; font-family: Verdana\, sans-serif\; font-size: 15px\; text-align: center\; background-color: rgb(255\, 255\, 255)\;" />\n<span style="outline: none\; color: rgb(51\, 51\, 51)\; font-family: Verdana\, sans-serif\; text-align: center\; background-color: rgb(255\, 255\, 255)\; font-weight: bold\; font-size: 15.3333px\;">How The Past Prepares Us For The Future</span><br />\n<br />\n<strong style="color: rgb(51\, 51\, 51)\; font-family: Verdana\, sans-serif\; font-size: 15.3333px\; background-color: rgb(255\, 255\, 255)\;">Paul Butler&nbsp\;</strong><span style="color: rgb(51\, 51\, 51)\; font-family: Verdana\, sans-serif\; font-size: 15.3333px\; background-color: rgb(255\, 255\, 255)\;">- Instructor\, Speaker\, Emcee\, Consultant - will present &quot\;Leadership for a Lifetime.&quot\; Paul&#39\;s presentation will cover some of the most important leadership traits\, and how you can use the&nbsp\;</span><strong style="color: rgb(51\, 51\, 51)\; font-family: Verdana\, sans-serif\; font-size: 15.3333px\; background-color: rgb(255\, 255\, 255)\;"><em>lessons of yesterday</em></strong><span style="color: rgb(51\, 51\, 51)\; font-family: Verdana\, sans-serif\; font-size: 15.3333px\; background-color: rgb(255\, 255\, 255)\;">&nbsp\;to overcome the&nbsp\;</span><strong style="outline: none\; color: rgb(51\, 51\, 51)\; font-family: Verdana\, sans-serif\; font-size: 15.3333px\; background-color: rgb(255\, 255\, 255)\;"><em style="outline: none\;">challenges of today</em></strong><span style="color: rgb(51\, 51\, 51)\; font-family: Verdana\, sans-serif\; font-size: 15.3333px\; background-color: rgb(255\, 255\, 255)\;">&nbsp\;and capitalize on the&nbsp\;</span><strong style="color: rgb(51\, 51\, 51)\; font-family: Verdana\, sans-serif\; font-size: 15.3333px\; background-color: rgb(255\, 255\, 255)\;"><em>opportunities of tomorrow</em></strong><span style="color: rgb(51\, 51\, 51)\; font-family: Verdana\, sans-serif\; font-size: 15.3333px\; background-color: rgb(255\, 255\, 255)\;">.<a href="https://chambermaster.blob.core.windows.net/userfiles/UserFiles/chambers/2183/File/PaulButlerUpdatedBiography.pdf"> Click here to learn more about Paul</a> .&nbsp\;<br />\n<br />\n<strong>Congratulations to the 2017 &quot\;Chamber Stars&quot\; Award Winners:</strong></span></p>\n\n<ul>\n	<li style="line-height: 20.8px\;">Business/Enterprise of the Year - CEDARVILLE Engineering Group LLC</li>\n	<li style="line-height: 20.8px\;">Nonprofit of the Year - Valley Forge Tourism &amp\; Convention Board</li>\n	<li style="line-height: 20.8px\;">Ambassador of the Year - Russell Lowe\, Fraser Advanced Information Systems</li>\n	<li style="line-height: 20.8px\;">Volunteer of the Year - April Barkasi\, CEDARVILLE Engineer Group LLC</li>\n</ul>\n\n<div style="line-height: 20.8px\;"><span style="color: rgb(51\, 51\, 51)\; font-family: Verdana\, sans-serif\; font-size: 15.3333px\; background-color: rgb(255\, 255\, 255)\;">90th Anniversary Balloon Pop during the closing reception of the evening&nbsp\;- 90 Balloons filled with prizes valued at a minimum of $25! Try your luck - purchase chances to pop a balloon&nbsp\;for $20. Contact Kitty at 610.326.2900 to reserve your balloon today.&nbsp\;<br />\n<br />\nMore information is located on the event page - <a href="http://www.tricountyareachamber.com/annual-events---networking/annual-dinner/">click here</a> to check it out!</span></div>\n\n<div style="line-height: 20.8px\;"><br />\n<span style="font-size: 12px\;"><span style="font-family: arial\;"><strong><a href="https://chambermaster.blob.core.windows.net/userfiles/UserFiles/chambers/2183/File/SponsorshipOpportunities2017.pdf">Sponsorship opportunities</a> </strong> available -&nbsp\;Contact Kitty&nbsp\;Papp&nbsp\;at 610-326-2900 or&nbsp\;<a href="mailto:kitty@tricountyareachamber.com">kitty@tricountyareachamber.com</a>&nbsp\;if you are interested.</span></span></div>\n<br />\n<span style="font-size:16px\;"><em><strong>Last Call for Registrations is Monday\, April 17 by 12 noon!</strong></em></span><br />\n<br />\n<strong>Thank you to our Speaker Sponsor <a href="http://www.codysystems.com/">CODY Systems</a>!</strong>
LOCATION:RiverCrest Golf Club & Preserve 100 Golf Club Dr. Phoenixville\, PA 19460
UID:e.2183.847555
SEQUENCE:3
DTSTAMP:20260420T181043Z
URL:https://business.tricountyareachamber.com/events/details/2017-annual-dinner-847555
END:VEVENT

END:VCALENDAR
