BEGIN:VCALENDAR
VERSION:2.0
PRODID:-//ChamberMaster//Event Calendar 2.0//EN
METHOD:PUBLISH
X-PUBLISHED-TTL:P3D
REFRESH-INTERVAL:P3D
CALSCALE:GREGORIAN
BEGIN:VEVENT
DTSTART:20171002T213000Z
DTEND:20171002T233000Z
X-MICROSOFT-CDO-ALLDAYEVENT:FALSE
SUMMARY:2017 College & Career Fair
DESCRIPTION:Colleges\, universities\, schools of higher education\, and Businesses will have exhibits aimed at aiding students in making the right choices for their futures.\n\n\n\nA list of schools and businesses with the map of the mall (to date) is available by clicking here.\n\nA copy of the event flyer is also available here .\n\nFREE for students and the general public.  No need to register.  Register button is for educational institutions only.\n\nChamber Member Businesses also have the option to participate:\n\n\n	Provide information to students seeking employment upon graduation\n	Share information about your industry\n\nMember Business Registration Fee: $125 (before Friday\, September 8)\; $150 (after Friday\, September 8). Includes one 8' table with two chairs
X-ALT-DESC;FMTTYPE=text/html:<title></title>\n<p style="text-align: justify\;"><span style="font-family: arial\; font-size: 13px\;">Colleges\, universities\, schools of higher education\, and Businesses will have exhibits aimed at aiding students in making the right choices for their futures.<br />\n<br />\n<span style="font-size:18px\;"><strong><span style="color:#FF0000\;">A list of schools and businesses with the map of the mall&nbsp\;(to date) is available by </span><u><a href="https://chambermaster.blob.core.windows.net/userfiles/UserFiles/chambers/2183/File/CollegeFairBinder.pdf"><span style="color:#FF0000\;">clicking here</span></a></u><span style="color:#FF0000\;">.</span></strong><br />\n<span style="color:#FF0000\;">A copy of the event flyer is also available </span><u><a href="https://chambermaster.blob.core.windows.net/userfiles/UserFiles/chambers/2183/File/CollegeFairFlyerforstudents.pdf"><span style="color:#FF0000\;">here</span></a></u><span style="color:#FF0000\;"> .</span></span></span></p>\n\n<p><span style="font-family: arial\; font-size: 13px\;"><span style="text-decoration: underline\;">FREE</span> for students and the general public.&nbsp\; No need to register.&nbsp\; Register button is for educational institutions only.</span></p>\n\n<p>Chamber Member Businesses also have the option to participate:</p>\n\n<ul>\n	<li>Provide information to students seeking employment upon graduation</li>\n	<li>Share information about your industry</li>\n</ul>\n<strong>Member Business Registration Fee: $125 (before Friday\, September 8)\; $150 (after Friday\, September 8)</strong>. Includes one 8&#39\; table with two chairs
LOCATION:Coventry Mall 351 W. Schuylkill Rd. Pottstown\, PA 19465
UID:e.2183.848734
SEQUENCE:3
DTSTAMP:20260421T060948Z
URL:https://business.tricountyareachamber.com/events/details/2017-college-career-fair-848734
END:VEVENT

END:VCALENDAR
