BEGIN:VCALENDAR
VERSION:2.0
PRODID:-//ChamberMaster//Event Calendar 2.0//EN
METHOD:PUBLISH
X-PUBLISHED-TTL:P3D
REFRESH-INTERVAL:P3D
CALSCALE:GREGORIAN
BEGIN:VEVENT
DTSTART:20170817T150000Z
DTEND:20170817T190000Z
X-MICROSOFT-CDO-ALLDAYEVENT:FALSE
SUMMARY:2017 Health & Fitness Expo
DESCRIPTION:Fun for ALL!\nFood\, vendors\, games\, music\, health screenings\, zumba\, kids photo ID's\, give-aways\, prizes\, photo booth\, mall discounts\, and much more!\n\n\n\n\n\nVisit all of Community Healh & Dental Care's medical or dental locations during Health Center Week\, wear your favorite sports team attire and you could win free gifts! There is also a kids coloring contest all week with prizes.
X-ALT-DESC;FMTTYPE=text/html:<div style="text-align: center\;"><span style="font-size:16px\;"><strong>Fun for ALL!</strong></span></div>\n<strong><em>Food\, vendors\, games\, music\, health screenings\, zumba\, kids photo ID&#39\;s\, give-aways\, prizes\, photo booth\, mall discounts\, and much more!</em></strong><br />\n<br />\n<br />\nVisit all of Community Healh &amp\; Dental Care&#39\;s medical or dental locations during Health Center Week\, wear your favorite sports team attire and you could win free gifts! There is also a kids coloring contest all week with prizes.
LOCATION:Coventry Mall\, Center Court 351 W. Schuylkill Road Pottstown\, PA 19465
UID:e.2183.848739
SEQUENCE:3
DTSTAMP:20260421T030050Z
URL:https://business.tricountyareachamber.com/events/details/2017-health-fitness-expo-848739
END:VEVENT

END:VCALENDAR
