BEGIN:VCALENDAR
VERSION:2.0
PRODID:-//ChamberMaster//Event Calendar 2.0//EN
METHOD:PUBLISH
X-PUBLISHED-TTL:P3D
REFRESH-INTERVAL:P3D
CALSCALE:GREGORIAN
BEGIN:VEVENT
DTSTART:20170303T190000Z
DTEND:20170304T020000Z
X-MICROSOFT-CDO-ALLDAYEVENT:FALSE
SUMMARY:2017 Pottstown Family & Home Expo
DESCRIPTION:Featuring 30\,000 square feet of home design\, landscape\, new technology displays\, and featuring exciting family events. Conveniently located at the interchange of Routes 100 & 724\, we are expecting record crowds! Lots of well-lit parking\, loading docks\, e-z access for exhibitors\, brightly lit exhibition spaces. Tons of new possibilities!\n\n\n\nReturning to: Coventry Mall (the former Ross Store location)\, 351 W. Schuylkill Rd.\, Pottstown 19465\n\n\n\nDates: Friday\, March 3\; 2 - 9 PM\n\n    Saturday\, March 4\; 10 AM - 9 PM\n\n    Sunday\, March 5\; 11 AM - 6 PM
X-ALT-DESC;FMTTYPE=text/html:<br />\nFeaturing 30\,000 square feet of home design\, landscape\, new technology displays\, and featuring exciting family events. Conveniently located at the interchange of Routes 100 &amp\; 724\, we are expecting record crowds! Lots of well-lit parking\, loading docks\, e-z access for exhibitors\, brightly lit exhibition spaces. Tons of new possibilities!<br />\n<br />\n<strong>Returning to:</strong> Coventry Mall (the former Ross Store location)\, 351 W. Schuylkill Rd.\, Pottstown 19465<br />\n<br />\n<strong>Dates</strong>: Friday\, March 3\; 2 - 9 PM<br />\n&nbsp\; &nbsp\; Saturday\, March 4\; 10 AM - 9 PM<br />\n&nbsp\; &nbsp\; Sunday\, March 5\; 11 AM - 6 PM
LOCATION:Coventry Mall 351 W. Schuylkill Rd. Pottstown\, PA 19465
UID:e.2183.847472
SEQUENCE:3
DTSTAMP:20260420T164628Z
URL:https://business.tricountyareachamber.com/events/details/2017-pottstown-family-home-expo-847472
END:VEVENT

END:VCALENDAR
