BEGIN:VCALENDAR
VERSION:2.0
PRODID:-//ChamberMaster//Event Calendar 2.0//EN
METHOD:PUBLISH
X-PUBLISHED-TTL:P3D
REFRESH-INTERVAL:P3D
CALSCALE:GREGORIAN
BEGIN:VEVENT
DTSTART:20200919T140000Z
DTEND:20200919T220000Z
X-MICROSOFT-CDO-ALLDAYEVENT:FALSE
SUMMARY:2020 Chester County Studio Tour
DESCRIPTION:This year\, 135 artists in 55 studios will safely exhibit different mediums\, such as painting\, sculpture\, jewelry\, photography\, clay\, glass\, paper and fiber. Many studios have large properties allowing artists and collectors to social distance. All the artists will be wearing masks while on hand to share their studios\, discuss their work\, and meet buyers and browsers alike.\n\n \n\nThe 2020 Chester County Studio Tour is proudly sponsored by Citadel Federal Credit Union\, the tour is free and open to the public on Saturday\, September 19\, from 10:00 a.m. until 6:00 p.m. and Sunday\, September 20\, from 11:00 a.m. until 5:00 p.m. Please visit www.chestercountystudiotour.com for a map\, artist and studio listings\, and the catalogue.  Handicapped accessible studios are marked on the studio pages in the catalogue and on the website. Email info@countystudiotour.com or call 610.942.9629 for further information.\n\n \n\n               Visitors are encouraged to design their own self-guided tour with our new interactive website. By visiting www.chestercountystudiotour.com.\, visitors can now click the "Add to Itinerary" button of their "must see" artists\, and have Google Maps plot the most efficient route\, providing turn-by-turn directions to each chosen studio. Tolsdorf Oil Lube Express has generously sponsored this option. For those short on time\, we have designed "Find 5!" which will find the five closest studios for the visitor. Members of the public can also start with a studio close to their starting point\, or anywhere they like\, by using a convenient map graciously sponsored by FIG Industries.\n\n \nSAFETY HIGHLIGHTS\n\n  The majority of our studios are private   so visitors are not present where hundreds of people have been.\n\n  The layout of our studios lend themselves to easy social distancing practices\, and all offer outstanding safety procedures including but not limited to hand sanitizer stations as well as the sanitizing of surfaces. \n\n  We are monitoring the current situation in Pennsylvania daily as it continues to evolve and following all state guidelines. We are committed to the safety and well being of our artists and patrons.
X-ALT-DESC;FMTTYPE=text/html:This year\, 135 artists in 55 studios will safely exhibit different mediums\, such as painting\, sculpture\, jewelry\, photography\, clay\, glass\, paper and fiber. Many studios have large properties allowing artists and collectors to social distance. All the artists will be wearing masks while on hand to share their studios\, discuss their work\, and meet buyers and browsers alike.<br />\n&nbsp\;<br />\nThe 2020 Chester County Studio Tour is proudly sponsored by <strong>Citadel Federal Credit Union\, </strong>the tour is free and open to the public on Saturday\, September 19\, from 10:00 a.m. until 6:00 p.m. and Sunday\, September 20\, from 11:00 a.m. until 5:00 p.m. Please visit <span style="color:black\;"><span style="font-size:12.0pt\;"><a href="http://www.chestercountystudiotour.com/"><span style="color:black\;"><span style="color:black\;">www.c<span style="color:black\;">hestercountystudiotour.com</span></span></span></a></span></span> for a map\, artist and studio listings\, and the catalogue.&nbsp\; Handicapped accessible studios are marked on the studio pages in the catalogue and on the website. Email <span style="color:black\;"><span style="font-size:12.0pt\;"><a href="mailto:info@countystudiotour.com"><span style="text-decoration:none\;text-underline:none\;"><span style="color:black\;"><span style="color:black\;">info@countystudio<span style="color:black\;">tour.com</span></span></span></span></a></span></span> or call 610.942.9629 for further information.<br />\n&nbsp\;<br />\n&nbsp\;&nbsp\;&nbsp\;&nbsp\;&nbsp\;&nbsp\;&nbsp\;&nbsp\;&nbsp\;&nbsp\;&nbsp\;&nbsp\;&nbsp\;&nbsp\; Visitors are encouraged to design their own self-guided tour with our new interactive website. By visiting <span style="color:black\;"><span style="font-size:12.0pt\;"><a href="http://www.chestercountystudiotour.com/"><span style="color:black\;"><span style="color:black\;">www.chestercountystudiotour.com</span></span></a></span></span>.\, visitors can now click the &ldquo\;Add to Itinerary&rdquo\; button of their &ldquo\;must see&rdquo\; artists\, and have Google Maps plot the most efficient route\, providing turn-by-turn directions to each chosen studio. <strong>Tolsdorf Oil Lube Express</strong> has generously sponsored this option. For those short on time\, we have designed &ldquo\;Find 5!&rdquo\; which will find the five closest studios for the visitor. Members of the public can also start with a studio close to their starting point\, or anywhere they like\, by using a convenient map graciously sponsored by <strong>FIG Industries</strong>.<br />\n&nbsp\;\n<div>SAFETY HIGHLIGHTS</div>\n\n<div>&bull\;<span style="white-space:pre"> </span>The majority of our studios are private &ndash\; so visitors are not present where hundreds of people have been.</div>\n\n<div>&bull\;<span style="white-space:pre"> </span>The layout of our studios lend themselves to easy social distancing practices\, and all offer outstanding safety procedures including but not limited to hand sanitizer stations as well as the sanitizing of surfaces.&nbsp\;</div>\n\n<div>&bull\;<span style="white-space:pre"> </span>We are monitoring the current situation in Pennsylvania daily as it continues to evolve and following all state guidelines. We are committed to the safety and well being of our artists and patrons.</div>\n
LOCATION:
UID:e.2183.856342
SEQUENCE:3
DTSTAMP:20260425T214542Z
URL:https://business.tricountyareachamber.com/events/details/2020-chester-county-studio-tour-856342
END:VEVENT

END:VCALENDAR
