BEGIN:VCALENDAR
VERSION:2.0
PRODID:-//ChamberMaster//Event Calendar 2.0//EN
METHOD:PUBLISH
X-PUBLISHED-TTL:P3D
REFRESH-INTERVAL:P3D
CALSCALE:GREGORIAN
BEGIN:VEVENT
DTSTART:20210503T150000Z
DTEND:20210503T220000Z
X-MICROSOFT-CDO-ALLDAYEVENT:FALSE
SUMMARY:2021 Montco Golf Classic
DESCRIPTION:Montgomery County is home to 53 golf courses\, one of the largest concentrations in the country. That's more than 300\,000 yards of golf. Combine that with our hotels\, restaurants and attractions\, and you have an irresistible destination.\n\nCelebrate with us safely on May 3 at our Annual Montco Golf Classic at Bluestone Country Club.\n\nThe event will feature more than 120 golfers across 18 holes of championship golf.\n\nDress Code: Proper golf attire is required. Soft spikes and Bermuda shorts are welcomed. Please\, no denim jeans\, cargo shorts or metal spikes.\n\nChoose the Package that's Right for You:\n\nClick Here to Download Our Sponsorship Brochure\n\nFor additional information on sponsorship opportunities\, contact:\n\nMegan Tomlinson | tomlinson@valleyforge.org
X-ALT-DESC;FMTTYPE=text/html:<p style="margin: 0px\; padding: 0px\; color: rgb(111\, 114\, 135)\; font-size: 16px\; line-height: 1.5rem\; font-family: &quot\;Neue Plak&quot\;\, -apple-system\, BlinkMacSystemFont\, Roboto\, &quot\;Helvetica Neue&quot\;\, Helvetica\, Tahoma\, Arial\, sans-serif\; letter-spacing: 0.5px\; background-color: rgb(255\, 255\, 255)\;">Montgomery County is home to 53 golf courses\, one of the largest concentrations in the country. That&#39\;s more than 300\,000 yards of golf. Combine that with our hotels\, restaurants and attractions\, and you have an irresistible destination.</p>\n\n<p style="margin: 0px\; padding: 10px 0px 0px\; color: rgb(111\, 114\, 135)\; font-size: 16px\; line-height: 1.5rem\; font-family: &quot\;Neue Plak&quot\;\, -apple-system\, BlinkMacSystemFont\, Roboto\, &quot\;Helvetica Neue&quot\;\, Helvetica\, Tahoma\, Arial\, sans-serif\; letter-spacing: 0.5px\; background-color: rgb(255\, 255\, 255)\;">Celebrate with us safely on May 3 at our Annual Montco Golf Classic at Bluestone Country Club.</p>\n\n<p style="margin: 0px\; padding: 10px 0px 0px\; color: rgb(111\, 114\, 135)\; font-size: 16px\; line-height: 1.5rem\; font-family: &quot\;Neue Plak&quot\;\, -apple-system\, BlinkMacSystemFont\, Roboto\, &quot\;Helvetica Neue&quot\;\, Helvetica\, Tahoma\, Arial\, sans-serif\; letter-spacing: 0.5px\; background-color: rgb(255\, 255\, 255)\;">The event will feature more than 120 golfers across 18 holes of championship golf.</p>\n\n<p style="margin: 0px\; padding: 10px 0px 0px\; color: rgb(111\, 114\, 135)\; font-size: 16px\; line-height: 1.5rem\; font-family: &quot\;Neue Plak&quot\;\, -apple-system\, BlinkMacSystemFont\, Roboto\, &quot\;Helvetica Neue&quot\;\, Helvetica\, Tahoma\, Arial\, sans-serif\; letter-spacing: 0.5px\; background-color: rgb(255\, 255\, 255)\;">Dress Code: Proper golf attire is required. Soft spikes and Bermuda shorts are welcomed. Please\, no denim jeans\, cargo shorts or metal spikes.</p>\n\n<h3 style="margin: 0px\; padding: 10px 0px 0px\; color: rgb(30\, 10\, 60)\; font-size: 20px\; line-height: 1.75rem\; font-weight: 400\; font-family: &quot\;Neue Plak&quot\;\, -apple-system\, BlinkMacSystemFont\, Roboto\, &quot\;Helvetica Neue&quot\;\, Helvetica\, Tahoma\, Arial\, sans-serif\; letter-spacing: 0.5px\; background-color: rgb(255\, 255\, 255)\;">Choose the Package that&#39\;s Right for You:</h3>\n\n<p style="margin: 0px\; padding: 10px 0px 0px\; color: rgb(111\, 114\, 135)\; font-size: 16px\; line-height: 1.5rem\; font-family: &quot\;Neue Plak&quot\;\, -apple-system\, BlinkMacSystemFont\, Roboto\, &quot\;Helvetica Neue&quot\;\, Helvetica\, Tahoma\, Arial\, sans-serif\; letter-spacing: 0.5px\; background-color: rgb(255\, 255\, 255)\;"><a href="https://assets.simpleviewinc.com/simpleview/image/upload/v1/clients/vfcvb/GOLF2103_Montco_Golf_Classic_Brochure_v2_digital_6c8f0ecc-b2b3-4c90-a7c0-60090f41c5a9.pdf" rel="nofollow noopener noreferrer" style="text-decoration-line: none\; cursor: pointer\; background-color: transparent\;" target="_blank"><span style="font-weight: 700\; padding-top: 0px\;">Click Here to Download Our Sponsorship Brochure</span></a></p>\n\n<p style="margin: 0px\; padding: 10px 0px 0px\; color: rgb(111\, 114\, 135)\; font-size: 16px\; line-height: 1.5rem\; font-family: &quot\;Neue Plak&quot\;\, -apple-system\, BlinkMacSystemFont\, Roboto\, &quot\;Helvetica Neue&quot\;\, Helvetica\, Tahoma\, Arial\, sans-serif\; letter-spacing: 0.5px\; background-color: rgb(255\, 255\, 255)\;">For additional information on sponsorship opportunities\, contact:</p>\n\n<p style="margin: 0px\; padding: 10px 0px 0px\; color: rgb(111\, 114\, 135)\; font-size: 16px\; line-height: 1.5rem\; font-family: &quot\;Neue Plak&quot\;\, -apple-system\, BlinkMacSystemFont\, Roboto\, &quot\;Helvetica Neue&quot\;\, Helvetica\, Tahoma\, Arial\, sans-serif\; letter-spacing: 0.5px\; background-color: rgb(255\, 255\, 255)\;"><span style="font-weight: 700\; padding-top: 0px\;">Megan Tomlinson | tomlinson@valleyforge.org</span></p>\n
LOCATION:Bluestone Country Club 711 Boehms Church Road Blue Bell\, PA 19422
UID:e.2183.856509
SEQUENCE:3
DTSTAMP:20260425T103344Z
URL:https://business.tricountyareachamber.com/events/details/2021-montco-golf-classic-856509
END:VEVENT

END:VCALENDAR
