BEGIN:VCALENDAR
VERSION:2.0
PRODID:-//ChamberMaster//Event Calendar 2.0//EN
METHOD:PUBLISH
X-PUBLISHED-TTL:P3D
REFRESH-INTERVAL:P3D
CALSCALE:GREGORIAN
BEGIN:VEVENT
DTSTART:20161114T223000Z
DTEND:20161115T010000Z
X-MICROSOFT-CDO-ALLDAYEVENT:FALSE
SUMMARY:26th Annual Blue Jeans for Babies Bash
DESCRIPTION:2016 BLUE JEANS FOR BABIES BASH 26th Annual Blue Jeans for Babies Day will be held on Monday\, November 14th. Blue Jeans for Babies Buttons will be available for donation/purchase for only $5! Purchasing a button will get you a FREE TICKET to the 26th annual Blue Jeans for Babies Bash\, as well as allow you to wear jeans to work on a Monday with participating employers! If you'd like to receive additional information about Blue Jeans for Babies Day or the 26th Annual Blue Jeans for Babies Bash\, please send us an email and include your name\, company and email address: k.gage@gagepersonnel.com or SSchulberger@marchofdimes.org Proceeds benefit the March of Dimes\, giving a fighting chance for every baby.
X-ALT-DESC;FMTTYPE=text/html:2016 BLUE JEANS FOR BABIES BASH 26th Annual Blue Jeans for Babies Day will be held on Monday\, November 14th. Blue Jeans for Babies Buttons will be available for donation/purchase for only $5! Purchasing a button will get you a FREE TICKET to the 26th annual Blue Jeans for Babies Bash\, as well as allow you to wear jeans to work on a Monday with participating employers! If you&#39\;d like to receive additional information about Blue Jeans for Babies Day or the 26th Annual Blue Jeans for Babies Bash\, please send us an email and include your name\, company and email address: k.gage@gagepersonnel.com or SSchulberger@marchofdimes.org Proceeds benefit the March of Dimes\, giving a fighting chance for every baby.
LOCATION:Reading Country Club Route 422/Perkiomen Avenue\, Reading\, PA
UID:e.2183.846134
SEQUENCE:3
DTSTAMP:20260422T112828Z
URL:https://business.tricountyareachamber.com/events/details/26th-annual-blue-jeans-for-babies-bash-11-14-2016-846134
END:VEVENT

END:VCALENDAR
