BEGIN:VCALENDAR
VERSION:2.0
PRODID:-//ChamberMaster//Event Calendar 2.0//EN
METHOD:PUBLISH
X-PUBLISHED-TTL:P3D
REFRESH-INTERVAL:P3D
CALSCALE:GREGORIAN
BEGIN:VEVENT
DTSTART:20151001T123000Z
DTEND:20151001T143000Z
X-MICROSOFT-CDO-ALLDAYEVENT:FALSE
SUMMARY:28th Annual College Fair
DESCRIPTION:Colleges\, universities\, and schools of higher education will have exhibits aimed at aiding students in making the right choices for their futures.\n\nFREE for students and the general public.  No need to register.  Register button is for educational institutions only.
X-ALT-DESC;FMTTYPE=text/html:<title></title>\n<p style="text-align: justify\;"><span style="font-family: arial\; font-size: 13px\;">Colleges\, universities\, and schools of higher education will have exhibits aimed at aiding students in making the right choices for their futures.</span></p>\n\n<p><span style="font-family: arial\; font-size: 13px\;"><span style="text-decoration: underline\;">FREE</span> for students and the general public.&nbsp\; No need to register.&nbsp\; Register button is for educational institutions only.</span></p>\n\n<p>&nbsp\;</p>\n
LOCATION:Gilbertsville Fire Company No. 1 1454 E. Philadelphia Ave. Gilbertsville\, PA 19525
UID:e.2183.845026
SEQUENCE:3
DTSTAMP:20260426T012122Z
URL:https://business.tricountyareachamber.com/events/details/28th-annual-college-fair-10-01-2015-845026
END:VEVENT

END:VCALENDAR
