BEGIN:VCALENDAR
VERSION:2.0
PRODID:-//ChamberMaster//Event Calendar 2.0//EN
METHOD:PUBLISH
X-PUBLISHED-TTL:P3D
REFRESH-INTERVAL:P3D
CALSCALE:GREGORIAN
BEGIN:VEVENT
DTSTART:20241011T120000Z
DTEND:20241011T190000Z
X-MICROSOFT-CDO-ALLDAYEVENT:FALSE
SUMMARY:30th anniversary Technology and Learning Conference 2024
DESCRIPTION:This year's conference will focus on enhancing the learning experience\, technology beyond the classroom and the classroom of today and tomorrow. The free\, annual conference will be held entirely virtually\, with participants logging in from around the globe. This year's keynote speaker will be Dr. Dustin York\, an Associate Professor at Maryville University in St. Louis\, and guest visiting lecturer at the University of Florida and Stanford University. Friday\, Oct. 11\, 2024 Online 8 a.m.-3 p.m. For more details about the 30th annual Technology and Learning Conference\, including the events schedule\, vendor and advertiser information\, or to submit a proposal\, visit mc3.edu/techday.
X-ALT-DESC;FMTTYPE=text/html:This year&#39\;s conference will focus on enhancing the learning experience\, technology beyond the classroom and the classroom of today and tomorrow. The free\, annual conference will be held entirely virtually\, with participants logging in from around the globe. This year&rsquo\;s keynote speaker will be Dr. Dustin York\, an Associate Professor at Maryville University in St. Louis\, and guest visiting lecturer at the University of Florida and Stanford University. Friday\, Oct. 11\, 2024 Online 8 a.m.-3 p.m. For more details about the 30th annual Technology and Learning Conference\, including the events schedule\, vendor and advertiser information\, or to submit a proposal\, visit mc3.edu/techday.
LOCATION:The virtual conference can bee seen at mc3.edu/techday
UID:e.2183.861504
SEQUENCE:3
DTSTAMP:20260421T122023Z
URL:https://business.tricountyareachamber.com/events/details/30th-anniversary-technology-and-learning-conference-2024-861504
END:VEVENT

END:VCALENDAR
