BEGIN:VCALENDAR
VERSION:2.0
PRODID:-//ChamberMaster//Event Calendar 2.0//EN
METHOD:PUBLISH
X-PUBLISHED-TTL:P3D
REFRESH-INTERVAL:P3D
CALSCALE:GREGORIAN
BEGIN:VEVENT
DTSTART:20250521T130000Z
DTEND:20250521T200000Z
X-MICROSOFT-CDO-ALLDAYEVENT:FALSE
SUMMARY:5/21/25 Facility Teams Conference
DESCRIPTION:Date: Wednesday\, May 21\, 2025\n	Time: 9:00 AM   4:00 PM\n	 Register Here: https://lp.constantcontactpages.com/ev/reg/8jtxpm9\n\n\nJoin us for a Day Designed Just for Facility Teams!\n\n\n\nThis unique conference offers a freestyle format\, allowing you to create your own schedule. Attend workshops and explore interactive stations at your convenience. Sessions and stations are designed to equip you with education\, tools\, and tips to tackle your everyday challenges with quick\, actionable solutions.\n\n\n\nWhat You'll Gain:\n\n  Save Time and Money with practical strategies.\n\n  Minimize Downtime and maximize efficiency.\n\n  Maintain a Clean\, Healthy\, and Safe Environment for occupants.\n\n  Training and Upskilling Tools to engage and develop your current and future workforce.\n\nDon't miss this opportunity to gain actionable insights:\n\n\n\nTopics Included:\n\n  How to Train Someone for Impact and ROI\n\n  Managing Water and Moisture Issues\n\n  Handing Mold and Microbial Issues\n\n  Odor Control | Cleaning | Custodial Tips\n\n  Disaster Planning & Business Continuity\n\n  Inspection and Testing Instruments and Techniques\n\n  TotalCare Package\n\n  And More!
X-ALT-DESC;FMTTYPE=text/html:<ul>\n	<li>Date: Wednesday\, May 21\, 2025</li>\n	<li>Time: 9:00 AM &ndash\; 4:00 PM</li>\n	<li>&nbsp\;Register Here:&nbsp\;<a class="x1i10hfl xjbqb8w x1ejq31n xd10rxx x1sy0etr x17r0tee x972fbf xcfux6l x1qhh985 xm0m39n x9f619 x1ypdohk xt0psk2 xe8uvvx xdj266r x11i5rnm xat24cr x1mh8g0r xexx8yu x4uap5 x18d9i69 xkhd6sd x16tdsg8 x1hl2dhg xggy1nq x1a2a7pz x1sur9pj xkrqix3 x1fey0fg x1s688f" href="https://lp.constantcontactpages.com/ev/reg/8jtxpm9?fbclid=IwZXh0bgNhZW0CMTAAAR2689gsnoyFh3mdoI6YrjeEamL5-DMJv7k8L0C9ZLhF5fr54mA6hQ-TWBM_aem_XTXT2TMFNiAB1z8oE4NV7A" rel="nofollow noreferrer" style="color: var(--blue-link)\; cursor: pointer\; text-decoration-line: none\; list-style: none\; margin: 0px\; text-align: inherit\; border-style: none\; padding: 0px\; box-sizing: border-box\; border-width: 0px\; outline: none\; -webkit-tap-highlight-color: transparent\; font-weight: 600\; touch-action: manipulation\; background-color: transparent\; display: inline\; font-family: inherit\;" tabindex="0" target="_blank">https://lp.constantcontactpages.com/ev/reg/8jtxpm9</a></li>\n</ul>\n\n<div><strong>Join us for a Day Designed Just for Facility Teams!</strong><br />\n<br />\nThis unique conference offers a freestyle format\, allowing you to create your own schedule. Attend workshops and explore interactive stations at your convenience. Sessions and stations are designed to equip you with education\, tools\, and tips to tackle your everyday challenges with quick\, actionable solutions.</div>\n\n<div><br />\nWhat You&rsquo\;ll Gain:<br />\n&bull\; Save Time and Money with practical strategies.<br />\n&bull\; Minimize Downtime and maximize efficiency.<br />\n&bull\; Maintain a Clean\, Healthy\, and Safe Environment for occupants.<br />\n&bull\; Training and Upskilling Tools to engage and develop your current and future workforce.</div>\n\n<div>Don&rsquo\;t miss this opportunity to gain actionable insights:</div>\n\n<div><br />\nTopics Included:<br />\n&middot\; How to Train Someone for Impact and ROI<br />\n&middot\; Managing Water and Moisture Issues<br />\n&middot\; Handing Mold and Microbial Issues<br />\n&middot\; Odor Control | Cleaning | Custodial Tips<br />\n&middot\; Disaster Planning &amp\; Business Continuity<br />\n&middot\; Inspection and Testing Instruments and Techniques<br />\n&middot\; TotalCare Package<br />\n&middot\; And More!</div>\n
LOCATION:Berks Fire Water Restorations\, Inc.? 1145 Commons Blvd. Reading\, PA 19605
UID:e.2183.861644
SEQUENCE:3
DTSTAMP:20260421T113253Z
URL:https://business.tricountyareachamber.com/events/details/5-21-25-facility-teams-conference-861644
END:VEVENT

END:VCALENDAR
