BEGIN:VCALENDAR
VERSION:2.0
PRODID:-//ChamberMaster//Event Calendar 2.0//EN
METHOD:PUBLISH
X-PUBLISHED-TTL:P3D
REFRESH-INTERVAL:P3D
CALSCALE:GREGORIAN
BEGIN:VEVENT
DTSTART:20210527T160000Z
DTEND:20210527T170000Z
X-MICROSOFT-CDO-ALLDAYEVENT:FALSE
SUMMARY:529 College Planning Day
DESCRIPTION:Investment Strategies and Portfolio Construction: 10 Myths about College Savings Plans\nPresenter:\n\nStephen Jagard\n\n529 Business Development Specialist- Northeast Division\n\n\n\n\n\nRegister in advance for this webinar:\n\nhttps://voyafa.zoom.us/webinar/register/WN_u73-9cSfRsaF4F9QbghCOA\n\n\n\nOr an H.323/SIP room system:\n\nH.323: 162.255.37.11 (US West) or 162.255.36.11 (US East)\n\nMeeting ID: 922 4270 8122\n\nSIP: 92242708122@zoomcrc.com\n\n\n\nAfter registering\, you will receive a confirmation email containing information about joining the webinar.\n\n\n\nStephen Jagard is not affiliated with Voya Financial Advisors.
X-ALT-DESC;FMTTYPE=text/html:<b style="box-sizing: border-box\; color: rgb(34\, 34\, 34)\; font-family: Roboto\, sans-serif\; font-size: 16px\; background-color: rgb(255\, 255\, 255)\;">Investment Strategies and Portfolio Construction:&nbsp\;</b><b style="box-sizing: border-box\; color: rgb(34\, 34\, 34)\; font-family: Roboto\, sans-serif\; font-size: 16px\; background-color: rgb(255\, 255\, 255)\;"><b style="box-sizing: border-box\;">10 Myths about College Savings Plans</b></b>\n<p style="box-sizing: border-box\; margin-bottom: 15px\; line-height: 1.5\; margin-top: 0px\; color: rgb(34\, 34\, 34)\; font-family: Roboto\, sans-serif\; font-size: 16px\; background-color: rgb(255\, 255\, 255)\;">Presenter:</p>\n\n<p style="box-sizing: border-box\; margin-bottom: 15px\; line-height: 1.5\; margin-top: 0px\; color: rgb(34\, 34\, 34)\; font-family: Roboto\, sans-serif\; font-size: 16px\; background-color: rgb(255\, 255\, 255)\;">Stephen Jagard</p>\n\n<p style="box-sizing: border-box\; margin-bottom: 15px\; line-height: 1.5\; margin-top: 0px\; color: rgb(34\, 34\, 34)\; font-family: Roboto\, sans-serif\; font-size: 16px\; background-color: rgb(255\, 255\, 255)\;">529 Business Development Specialist- Northeast Division<br style="box-sizing: border-box\;" />\n<br style="box-sizing: border-box\;" />\n<br style="box-sizing: border-box\;" />\nRegister in advance for this webinar:<br style="box-sizing: border-box\;" />\n<a href="https://voyafa.zoom.us/webinar/register/WN_u73-9cSfRsaF4F9QbghCOA">https://voyafa.zoom.us/webinar/register/WN_u73-9cSfRsaF4F9QbghCOA</a><br style="box-sizing: border-box\;" />\n<br style="box-sizing: border-box\;" />\nOr an H.323/SIP room system:<br style="box-sizing: border-box\;" />\nH.323: 162.255.37.11 (US West) or 162.255.36.11 (US East)<br style="box-sizing: border-box\;" />\nMeeting ID: 922 4270 8122<br style="box-sizing: border-box\;" />\nSIP: 92242708122@zoomcrc.com<br style="box-sizing: border-box\;" />\n<br style="box-sizing: border-box\;" />\nAfter registering\, you will receive a confirmation email containing information about joining the webinar.<br style="box-sizing: border-box\;" />\n<br style="box-sizing: border-box\;" />\n<span style="box-sizing: border-box\;">Stephen Jagard is not affiliated with Voya Financial Advisors.</span></p>\n
LOCATION:Virtual
UID:e.2183.856578
SEQUENCE:3
DTSTAMP:20260425T103622Z
URL:https://business.tricountyareachamber.com/events/details/529-college-planning-day-856578
END:VEVENT

END:VCALENDAR
