BEGIN:VCALENDAR
VERSION:2.0
PRODID:-//ChamberMaster//Event Calendar 2.0//EN
METHOD:PUBLISH
X-PUBLISHED-TTL:P3D
REFRESH-INTERVAL:P3D
CALSCALE:GREGORIAN
BEGIN:VEVENT
DTSTART:20170902T130000Z
DTEND:20170902T200000Z
X-MICROSOFT-CDO-ALLDAYEVENT:FALSE
SUMMARY:52nd Annual Duryea Day
DESCRIPTION:Join us for our annual car\, truck\, and motorcycle show. Hundreds of show vehicles\, flea market\, food\, live music\, and entertainment for all ages. Registration forms available at www.boyertownmuseum.org. Or call 610-367-2090 for more information.
X-ALT-DESC;FMTTYPE=text/html:Join us for our annual car\, truck\, and motorcycle show. Hundreds of show vehicles\, flea market\, food\, live music\, and entertainment for all ages. Registration forms available at www.boyertownmuseum.org. Or call 610-367-2090 for more information.
LOCATION:Boyertown Community Park 419 S. Madison Street Boyertown\, PA 19512
UID:e.2183.848728
SEQUENCE:3
DTSTAMP:20260421T042537Z
URL:https://business.tricountyareachamber.com/events/details/52nd-annual-duryea-day-848728
END:VEVENT

END:VCALENDAR
