BEGIN:VCALENDAR
VERSION:2.0
PRODID:-//ChamberMaster//Event Calendar 2.0//EN
METHOD:PUBLISH
X-PUBLISHED-TTL:P3D
REFRESH-INTERVAL:P3D
CALSCALE:GREGORIAN
BEGIN:VEVENT
DTSTART:20250503T140000Z
DTEND:20250503T190000Z
X-MICROSOFT-CDO-ALLDAYEVENT:FALSE
SUMMARY:5th Annual Corn Hole Tournament
DESCRIPTION:Join Us for a Fun-Filled Day at the Foundation for Boyertown Education Corn Hole Tournament!\n\nGet ready to toss\, cheer\, and support education at the Foundation for Boyertown Education Corn Hole Tournament! This exciting annual event brings together friends\, families\, and community partners for a day of friendly competition\, laughter\, and giving back. With each bag tossed\, you're helping to fund innovative teacher grants that inspire creativity and enhance learning experiences for the students of the Boyertown Area School District.\n\nWhether you're a seasoned pro or a first-time player\, come enjoy:\n\n-High-energy corn hole matches\n\n-Delicious local food and drinks\n\n-Music and entertainment\n\n-Prizes for top teams\n\n-Community camaraderie   all for a great cause!\n\nEvery toss makes a difference! Together\, we can empower our educators and enrich the educational journey of our students.\n\nGrab your team\, bring your best game\, and let's toss for a brighter future!
X-ALT-DESC;FMTTYPE=text/html:<p><strong>Join Us for a Fun-Filled Day at the Foundation for Boyertown Education Corn Hole Tournament!</strong></p>\n\n<p>Get ready to toss\, cheer\, and support education at the <strong>Foundation for Boyertown Education Corn Hole Tournament</strong>! This exciting annual event brings together friends\, families\, and community partners for a day of friendly competition\, laughter\, and giving back. With each bag tossed\, you&#39\;re helping to fund <strong>innovative teacher grants</strong> that inspire creativity and enhance learning experiences for the students of the <strong>Boyertown Area School District</strong>.</p>\n\n<p>Whether you&#39\;re a seasoned pro or a first-time player\, come enjoy:<br />\n-High-energy corn hole matches<br />\n-Delicious local food and drinks<br />\n-Music and entertainment<br />\n-Prizes for top teams<br />\n-Community camaraderie &mdash\; all for a great cause!</p>\n\n<p>Every toss makes a difference! Together\, we can <strong>empower our educators</strong> and <strong>enrich the educational journey</strong> of our students.</p>\n\n<p>Grab your team\, bring your best game\, and let&#39\;s toss for a brighter future!</p>\n
LOCATION:2 N Funk Rd\, Boyertown\, PA 19512
UID:e.2183.861699
SEQUENCE:3
DTSTAMP:20260421T113144Z
URL:https://business.tricountyareachamber.com/events/details/5th-annual-corn-hole-tournament-861699
END:VEVENT

END:VCALENDAR
