BEGIN:VCALENDAR
VERSION:2.0
PRODID:-//ChamberMaster//Event Calendar 2.0//EN
METHOD:PUBLISH
X-PUBLISHED-TTL:P3D
REFRESH-INTERVAL:P3D
CALSCALE:GREGORIAN
BEGIN:VEVENT
DTSTART:20171021T180000Z
DTEND:20171021T210000Z
X-MICROSOFT-CDO-ALLDAYEVENT:FALSE
SUMMARY:8th Annual Pumpkin Run
DESCRIPTION:It's that time of the year again. Pottstown Classics Car Club/Wilcox Farms presents our 8th Annual Pumpkin Run. We would like to thank all of our sponsors and supporters for our Nostalgia Nights Car Shows. As y'all know we do our Pumpkin Run in conjunction with Wilcox Farms Corn Maze. All participants will receive a small pumpkin when you arrive. There will also be discount tickets to the corn maze and the hay ride. This is a trophy show also. DJ Bruce will also be on hand spinning the great sounds of the 50's\, 60's\, 70's\, and some gully tunes of Halloween. Jerry Keefer of Keefer Photography will be on hand to take a picture of your car with a beautiful fall background. Hope to see y'all there.
X-ALT-DESC;FMTTYPE=text/html:<span style="color: rgb(75\, 79\, 86)\; font-family: Helvetica\, Arial\, sans-serif\; font-size: 14px\; background-color: rgb(255\, 255\, 255)\;">It&#39\;s that time of the year again. Pottstown Classics Car Club/Wilcox Farms presents our 8th Annual Pumpkin Run. We would like to thank all of our sponsors and supporters for our Nostalgia Nights Car Shows. As y&#39\;all know we do our Pumpkin Run in conjunction with Wilcox Farms Corn Maze. All participants will receive a small pumpkin when you arrive. There will also be discount tickets to the corn maze and the hay ride. This is a trophy show also. DJ Bruce will also be on hand spinning the great sounds of the 50&#39\;s\, 60&#39\;s\, 70&#39\;s\, and some gully tunes of Halloween. Jerry Keefer of Keefer Photography will be on hand to take a picture of your car with a beautiful fall background. Hope to see y&#39\;all there.</span>
LOCATION:Wilcox Farms Corn Maze 1134 Reading Avenue Boyertown\, PA 19512
UID:e.2183.848841
SEQUENCE:3
DTSTAMP:20260421T042532Z
URL:https://business.tricountyareachamber.com/events/details/8th-annual-pumpkin-run-848841
END:VEVENT

END:VCALENDAR
