BEGIN:VCALENDAR
VERSION:2.0
PRODID:-//ChamberMaster//Event Calendar 2.0//EN
METHOD:PUBLISH
X-PUBLISHED-TTL:P3D
REFRESH-INTERVAL:P3D
CALSCALE:GREGORIAN
BEGIN:VEVENT
DTSTART:20170520T140000Z
DTEND:20170520T190000Z
X-MICROSOFT-CDO-ALLDAYEVENT:FALSE
SUMMARY:98.1 WOGL & American Heritage Credit Union Present the 14th Annual Car Show
DESCRIPTION:News Announcement\n\n\nFor Immediate Release                                                                                                                                  \n\nContact:\n\n    Samantha Simon\, WOGL Promotions Director: 215-680-0750\n\nDorian Smith\, AMHFCU\, Vice President of Business Development: 215-969-2909\n\n \n98.1 WOGL & American Heritage Credit Union Present the\n\n14th Annual Car Show\n\nSaturday\, May 20th\, 2017 10 A.M.   3 P.M.\n\nOver 75 Trophies Awarded To The Best Cars\n\nProceeds Benefit The Kids-N-Hope Foundation\n \n\nPhiladelphia\, PA   May 20\, 2017 -- 98.1 WOGL & American Heritage Credit Union present the 14th Annual Car Show at 2068 Red Lion Road\, Philadelphia\, PA. This FREE event will include hundreds of cars\, a live broadcast on 98.1 WOGL\, food\, games\, a craft show and activities for kids. Nationwide Insurance will also be bringing in NASCAR's #88 Dale Earnhardt Jr. Nationwide Chevrolet SS Show Car as well as a racing simulator.\n\n\n\nThe 98.1 WOGL live broadcast schedule is as follows:\n\n9 A.M. to 11 A.M.           Harvey Holiday and Nicky G\n\n11 A.M. to 1 P.M.           Cadillac Jack\n\n9 A.M. to 11 A.M.           The Breakfast Club\n\n \n\nAwards will be given out starting at 3 P.M. by the 98.1 WOGL Air staff.  Information will also be posted on WOGL.com and AMHFCU.org.\n\n\n\nAll car registration proceeds benefit the Kids-N-Hope Foundation. Organized in 1996\, The Kids-N-Hope Foundation supports children's programs at area hospitals. The Foundation has donated more than $1.3 million dollars to the Children's Hospital of Philadelphia in support of their Music Therapy Program. Registration takes place at American Heritage Credit Union\, 2068 Red Lion Road\, Philadelphia\, PA\, starting at 9 A.M. with a $20 registration fee the day of the show. (All cars must be registered by 9:30 A.M. to participate). \n\n\n\nWOGL is owned and operated by CBS RADIO\, one of the largest major market radio operators in the United States.  A division of CBS Corporation\, CBS RADIO operates 117 radio stations in 26 markets   including the top 10 as ranked by Nielsen Audio   as well as an extensive array of digital assets. CBS RADIO also owns and operates WIP\, WTDY\, WXTU\, KYW\, and WPHT in Philadelphia.\n\n\n\nAmerican Heritage Federal Credit Union is a $1.9 billion\, member-owned financial cooperative serving over 800 sponsor companies. It is the country's 121st largest Credit Union with over 156\,000 members and 30 branches in the Philadelphia\, Bucks\, Montgomery\, Delaware and Camden Counties.\n\n\n\n###
X-ALT-DESC;FMTTYPE=text/html:<div style="text-align: center\;"><strong>News Announcement</strong></div>\n<br />\nFor Immediate Release&nbsp\;&nbsp\; &nbsp\;&nbsp\;&nbsp\;&nbsp\;&nbsp\;&nbsp\;&nbsp\;&nbsp\;&nbsp\;&nbsp\;&nbsp\;&nbsp\;&nbsp\;&nbsp\;&nbsp\;&nbsp\;&nbsp\;&nbsp\;&nbsp\;&nbsp\;&nbsp\;&nbsp\;&nbsp\;&nbsp\;&nbsp\;&nbsp\;&nbsp\;&nbsp\;&nbsp\;&nbsp\;&nbsp\;&nbsp\;&nbsp\;&nbsp\;&nbsp\;&nbsp\;&nbsp\;&nbsp\;&nbsp\;&nbsp\;&nbsp\;&nbsp\;&nbsp\;&nbsp\;&nbsp\;&nbsp\;&nbsp\;&nbsp\;&nbsp\;&nbsp\;&nbsp\;&nbsp\;&nbsp\;&nbsp\;&nbsp\;&nbsp\;&nbsp\;&nbsp\;&nbsp\;&nbsp\;&nbsp\;&nbsp\;&nbsp\;&nbsp\;&nbsp\;&nbsp\;&nbsp\;&nbsp\;&nbsp\;&nbsp\;&nbsp\;&nbsp\;&nbsp\;&nbsp\;&nbsp\;&nbsp\;&nbsp\;&nbsp\;&nbsp\;&nbsp\;&nbsp\;&nbsp\;&nbsp\;&nbsp\;&nbsp\;&nbsp\;&nbsp\;&nbsp\;&nbsp\;&nbsp\;&nbsp\;&nbsp\;&nbsp\;&nbsp\;&nbsp\;&nbsp\;&nbsp\;&nbsp\;&nbsp\;&nbsp\;&nbsp\;&nbsp\;&nbsp\;&nbsp\;&nbsp\;&nbsp\;&nbsp\;&nbsp\;&nbsp\;&nbsp\;&nbsp\;&nbsp\;&nbsp\;&nbsp\;&nbsp\;&nbsp\;&nbsp\;&nbsp\;&nbsp\;&nbsp\;&nbsp\;&nbsp\;&nbsp\;&nbsp\;&nbsp\;&nbsp\;&nbsp\;<br />\nContact:<br />\n&shy\;&shy\;&shy\;&shy\;Samantha Simon\, WOGL Promotions Director: 215-680-0750<br />\nDorian Smith\, AMHFCU\, Vice President of Business Development: 215-969-2909<br />\n&nbsp\;\n<div style="text-align: center\;"><strong>98.1 WOGL &amp\; American Heritage Credit Union Present the<br />\n14th Annual Car Show<br />\nSaturday\, May 20th\, 2017 10 A.M. &ndash\; 3 P.M.<br />\nOver 75 Trophies Awarded To The Best Cars<br />\nProceeds Benefit The Kids-N-Hope Foundation</strong></div>\n&nbsp\;<br />\n<strong>Philadelphia\, PA &ndash\; </strong>May 20\, 2017 -- 98.1 WOGL &amp\; American Heritage Credit Union present the 14th Annual Car Show at 2068 Red Lion Road\, Philadelphia\, PA. This FREE event will include hundreds of cars\, a live broadcast on 98.1 WOGL\, food\, games\, a craft show and activities for kids. Nationwide Insurance will also be bringing in NASCAR&rsquo\;s #88 Dale Earnhardt Jr. Nationwide Chevrolet SS Show Car as well as a racing simulator.<br />\n<br />\nThe 98.1 WOGL live broadcast schedule is as follows:<br />\n9 A.M. to 11 A.M.&nbsp\;&nbsp\;&nbsp\;&nbsp\;&nbsp\; &ndash\; &nbsp\;&nbsp\; Harvey Holiday and Nicky G<br />\n11 A.M. to 1 P.M.&nbsp\;&nbsp\;&nbsp\;&nbsp\;&nbsp\; &ndash\; &nbsp\;&nbsp\; Cadillac Jack<br />\n9 A.M. to 11 A.M.&nbsp\;&nbsp\;&nbsp\;&nbsp\;&nbsp\; &ndash\; &nbsp\;&nbsp\; The Breakfast Club<br />\n&nbsp\;<br />\nAwards will be given out starting at 3 P.M. by the 98.1 WOGL Air staff.&nbsp\; Information will also be posted on WOGL.com and AMHFCU.org.<br />\n<br />\nAll car registration proceeds benefit the Kids-N-Hope Foundation. Organized in 1996\, The Kids-N-Hope Foundation supports children&rsquo\;s programs at area hospitals. The Foundation has donated more than $1.3 million dollars to the Children&rsquo\;s Hospital of Philadelphia in support of their Music Therapy Program. Registration takes place at American Heritage Credit Union\, 2068 Red Lion Road\, Philadelphia\, PA\, starting at 9 A.M. with a $20 registration fee the day of the show. (All cars must be registered by 9:30 A.M. to participate).&nbsp\;<br />\n<br />\nWOGL is owned and operated by CBS RADIO\, one of the largest major market radio operators in the United States.&nbsp\; A division of CBS Corporation\, CBS RADIO operates 117 radio stations in 26 markets &ndash\; including the top 10 as ranked by Nielsen Audio &ndash\; as well as an extensive array of digital assets. CBS RADIO also owns and operates WIP\, WTDY\, WXTU\, KYW\, and WPHT in Philadelphia.<br />\n<br />\nAmerican Heritage Federal Credit Union is a $1.9 billion\, member-owned financial cooperative serving over 800 sponsor companies. It is the country&#39\;s 121st largest Credit Union with over 156\,000 members and 30 branches in the Philadelphia\, Bucks\, Montgomery\, Delaware and Camden Counties.<br />\n<br />\n###
LOCATION:American Heritage Credit Union Main Campus: 2068 Red Lion Road Philadelphia\, PA 19115
UID:e.2183.847677
SEQUENCE:3
DTSTAMP:20260420T200627Z
URL:https://business.tricountyareachamber.com/events/details/98-1-wogl-american-heritage-credit-union-present-the-14th-annual-car-show-847677
END:VEVENT

END:VCALENDAR
