BEGIN:VCALENDAR
VERSION:2.0
PRODID:-//ChamberMaster//Event Calendar 2.0//EN
METHOD:PUBLISH
X-PUBLISHED-TTL:P3D
REFRESH-INTERVAL:P3D
CALSCALE:GREGORIAN
BEGIN:VEVENT
DTSTART:20170101T143000Z
DTEND:20170102T040000Z
X-MICROSOFT-CDO-ALLDAYEVENT:FALSE
SUMMARY:9th Annual Polar Bear Swim
DESCRIPTION:'Tis the Season to be Freezin'\n\n\n\nWe plunge promptly at 10:30 AM!\n\n\nOther activities include: words of encouragement from the Mayor\, national anthem\, Canned Music\, Christmas Tree Toss\, and any other odd activity we can muster.\n\n\n\nRefreshments will be available for purchase.\n\n\n\nAll Polar Bears are required to sign a participation and indemnification waiver.\n\nNow accepting participants ages 16 & 17 with adult authorization. All participants must read and sign the waiver agreement\, witnessed by event staff in order to participate. Participants must be 16 years of age on or before 1/1/2017 to partake in this activity. Children under the age of 16 are strictly forbidden. Youth ages 16-17 may only participate with the signature of a legal guardian\, witnessed by event staff. Identification will be required. Please plan accordingly.
X-ALT-DESC;FMTTYPE=text/html:<div style="text-align: center\;"><strong>&#39\;Tis the Season to be Freezin&#39\;</strong><br />\n<br />\nWe plunge promptly at 10:30 AM!</div>\n<br />\nOther activities include: words of encouragement from the Mayor\, national anthem\, Canned Music\, Christmas Tree Toss\, and any other odd activity we can muster.<br />\n<br />\nRefreshments will be available for purchase.<br />\n<br />\nAll Polar Bears are required to sign a participation and indemnification waiver.<br />\n<span style="font-size:11px\;">Now accepting participants ages 16 &amp\; 17 with adult authorization. All participants must read and sign the waiver agreement\, witnessed by event staff in order to participate. Participants must be 16 years of age on or before 1/1/2017 to partake in this activity. <em><strong>Children under the age of 16 are strictly forbidden.</strong></em> Youth ages 16-17 may only participate with the signature of a legal guardian\, witnessed by event staff. <strong>Identification will be required</strong>. Please plan accordingly.</span>
LOCATION:Riverfront Park 140 College Drive Pottstown\, PA 19464
UID:e.2183.847274
SEQUENCE:3
DTSTAMP:20260420T132420Z
URL:https://business.tricountyareachamber.com/events/details/9th-annual-polar-bear-swim-847274
END:VEVENT

END:VCALENDAR
