BEGIN:VCALENDAR
VERSION:2.0
PRODID:-//ChamberMaster//Event Calendar 2.0//EN
METHOD:PUBLISH
X-PUBLISHED-TTL:P3D
REFRESH-INTERVAL:P3D
CALSCALE:GREGORIAN
BEGIN:VEVENT
DTSTART:20171202T010000Z
DTEND:20171202T031500Z
X-MICROSOFT-CDO-ALLDAYEVENT:FALSE
SUMMARY:A Christmas Carol: The Musical
DESCRIPTION:This spectacular adaptation of Charles Dickens' most well-known story was written by Broadway heavy hitters Alan Menken (Disney's The Little Mermaid\, Little Shop and Horrors) and Lynn Ahrens (Ragtime\, Suessical). They breathe fantastic new life into the classic tale of A Christmas Carol\, a traditional holiday ghost story that ultimately shows us that choosing love will bring us redemption and acceptance of our fellow man. Bring your whole family to enjoy this wonderful\, uplifting story with beautiful costumes and a fabulous orchestra that audiences have come to expect from Steel River Playhouse.\n\nContact beth.mcdonnell@steelriver.org for Group Sales and Discounts\, and Holiday Themed Parties before you see the show.\n\nRuns approximately 2 hours with one intermission
X-ALT-DESC;FMTTYPE=text/html:<p style="box-sizing: border-box\; margin: 0px 0px 26px\; padding: 0px\; color: rgb(51\, 51\, 51)\; font-family: Lato\, sans-serif\; font-size: 16px\; background-color: rgb(255\, 255\, 255)\;">This spectacular adaptation of Charles Dickens&rsquo\; most well-known story was written by Broadway heavy hitters Alan Menken (Disney&rsquo\;s The Little Mermaid\, Little Shop and Horrors) and Lynn Ahrens (Ragtime\, Suessical). They breathe fantastic new life into the classic tale of A Christmas Carol\, a traditional holiday ghost story that ultimately shows us that choosing love will bring us redemption and acceptance of our fellow man. Bring your whole family to enjoy this wonderful\, uplifting story with beautiful costumes and a fabulous orchestra that audiences have come to expect from Steel River Playhouse.</p>\n\n<p style="box-sizing: border-box\; margin: 0px 0px 26px\; padding: 0px\; color: rgb(51\, 51\, 51)\; font-family: Lato\, sans-serif\; font-size: 16px\; background-color: rgb(255\, 255\, 255)\;"><span style="box-sizing: border-box\; font-weight: 700\;">Contact&nbsp\;<a href="mailto:beth.mcdonnell@steelriver.org" rel="noopener" style="box-sizing: border-box\; background: transparent\; transition: all 0.1s ease-in-out\; color: rgb(36\, 131\, 208)\; text-decoration-line: none\;" target="_blank">beth.mcdonnell@steelriver.org</a>&nbsp\;for Group Sales and Discounts\, and Holiday Themed Parties before you see the show.</span></p>\n\n<p style="box-sizing: border-box\; margin: 0px 0px 26px\; padding: 0px\; color: rgb(51\, 51\, 51)\; font-family: Lato\, sans-serif\; font-size: 16px\; background-color: rgb(255\, 255\, 255)\;"><em style="box-sizing: border-box\;">Runs approximately 2 hours with one intermission</em></p>\n
LOCATION:Steel River Playhouse 245 E. High Street Pottstown\, PA 19464
UID:e.2183.848849
SEQUENCE:3
DTSTAMP:20260421T080447Z
URL:https://business.tricountyareachamber.com/events/details/a-christmas-carol-the-musical-848849
END:VEVENT

END:VCALENDAR
