BEGIN:VCALENDAR
VERSION:2.0
PRODID:-//ChamberMaster//Event Calendar 2.0//EN
METHOD:PUBLISH
X-PUBLISHED-TTL:P3D
REFRESH-INTERVAL:P3D
CALSCALE:GREGORIAN
BEGIN:VEVENT
DTSTART:20211008T230000Z
DTEND:20211010T180000Z
X-MICROSOFT-CDO-ALLDAYEVENT:FALSE
SUMMARY:A Midsummer Night's Dream at Steel River Playhouse!
DESCRIPTION:POTTSTOWN\, PA   There is something for everyone in the family this October at Steel River Playhouse\, from children's shows to  the popular Shakespeare comedy "A Midsummer Night's Dream". \n\nJoin us on Friday\, October 8th at 7 PM or Sunday\, October 10th at 2 PM for the Shakespeare classic "A Midsummer Night's Dream".  What happens when four lovers and a troupe of amateur actors find themselves in a forest inhabited by fairies?  The fairies manipulate the humans while engaged in their own domestic intrigue causing confusion and humorous results!  This play is one of Shakespeare's most popular\, and our cast brings it to life with a fresh take on the action! \n\nTickets for "A Midsummer Night's Dream" are available at the Box Office or online. Check our website for all our upcoming events at www.steelriver.org!  For more information about volunteer opportunities or other questions please email info@steelriver.org.  There's so much happening on High Street   join us!
X-ALT-DESC;FMTTYPE=text/html:<span style="font-family:times new roman\,serif"><span style="font-size:12.0pt">POTTSTOWN\, PA &ndash\; There is something for everyone in the family this October at Steel River Playhouse\, from children&#39\;s shows to&nbsp\; the popular Shakespeare comedy &ldquo\;A Midsummer Night&rsquo\;s Dream&rdquo\;.&nbsp\;</span></span><br />\n<span style="font-family:times new roman\,serif"><span style="font-size:12.0pt">Join us on Friday\, October 8th at 7 PM or Sunday\, October 10th at 2 PM for the Shakespeare classic &ldquo\;A Midsummer Night&rsquo\;s Dream&rdquo\;.&nbsp\; What happens when four lovers and a troupe of amateur actors&nbsp\;find themselves in a forest inhabited by fairies?&nbsp\; The fairies manipulate the humans while engaged in their own domestic intrigue causing confusion and humorous results!&nbsp\;&nbsp\;This play is one of Shakespeare&#39\;s most popular\, and our cast brings it to life with a fresh take on the action! </span></span><br />\n<span style="font-family:times new roman\,serif"><span style="font-size:12.0pt">Tickets for &ldquo\;A Midsummer Night&rsquo\;s Dream&rdquo\; are available at the Box Office or online. Check our website for all our upcoming events at </span></span><a href="http://www.steelriver.org/"><span style="font-family:times new roman\,serif"><span style="font-size:12.0pt">www.steelriver.org</span></span></a><span style="font-family:times new roman\,serif"><span style="font-size:12.0pt">! &nbsp\;For more information about volunteer opportunities or other questions please email </span></span><a href="mailto:info@steelriver.org"><span style="font-family:times new roman\,serif"><span style="font-size:12.0pt">info@steelriver.org</span></span></a><span style="font-family:times new roman\,serif"><span style="font-size:12.0pt">.&nbsp\; There&rsquo\;s so much happening on High Street &ndash\; join us!</span></span>
LOCATION:Steel River Playhouse 245 E. High St. Pottstown\, PA 19464
UID:e.2183.856829
SEQUENCE:3
DTSTAMP:20260422T083341Z
URL:https://business.tricountyareachamber.com/events/details/a-midsummer-night-s-dream-at-steel-river-playhouse-856829
END:VEVENT

END:VCALENDAR
