BEGIN:VCALENDAR
VERSION:2.0
PRODID:-//ChamberMaster//Event Calendar 2.0//EN
METHOD:PUBLISH
X-PUBLISHED-TTL:P3D
REFRESH-INTERVAL:P3D
CALSCALE:GREGORIAN
BEGIN:VEVENT
DTSTART;VALUE=DATE:20170221
DTEND;VALUE=DATE:20170222
TRANSP:TRANSPARENT
X-MICROSOFT-CDO-ALLDAYEVENT:TRUE
SUMMARY:Adult Band for Beginners Now Forming!
DESCRIPTION:The New Horizons Band is an entry level band for adults who have never before played a musical instrument\, or for those who haven't played in years. Each week\, participants will get a group instrumental lesson and then come together for a band rehearsal. Community Music School invites all those interested in to join us beginning April 22\, 2017. For just $10 per week\, you can learn to play an instrument and be part of a growing band program!
X-ALT-DESC;FMTTYPE=text/html:The New Horizons Band is an entry level band for adults who have never before played a musical instrument\, or for those who haven&#39\;t played in years. Each week\, participants will get a group instrumental lesson and then come together for a band rehearsal. Community Music School invites all those interested in to join us beginning April 22\, 2017. For just $10 per week\, you can learn to play an instrument and be part of a growing band program!
LOCATION:Community Music School 775 W. Main Street Trappe\, PA 19426
UID:e.2183.847494
SEQUENCE:3
DTSTAMP:20260420T164505Z
URL:https://business.tricountyareachamber.com/events/details/adult-band-for-beginners-now-forming-02-21-2017-847494
END:VEVENT

END:VCALENDAR
