BEGIN:VCALENDAR
VERSION:2.0
PRODID:-//ChamberMaster//Event Calendar 2.0//EN
METHOD:PUBLISH
X-PUBLISHED-TTL:P3D
REFRESH-INTERVAL:P3D
CALSCALE:GREGORIAN
BEGIN:VEVENT
DTSTART:20191104T123000Z
DTEND:20191104T183000Z
X-MICROSOFT-CDO-ALLDAYEVENT:FALSE
SUMMARY:Advancing Mobility Summit
DESCRIPTION:Our half day event\, Advancing Mobility Summit\, is an opportunity for top local\, state\, and national elected officials\, private and public sector organizations\, and leaders in the transportation industry to speak on various transportation topics.\n\nYear after year\, it draws over hundreds of executives who come together for networking and the opportunity to learn about best practices\, and relevant approaches in transportation demand management (TDM) strategies\, technology\, infrastructure and more.\n\nEvent agenda:\n\n7:30 am-7:55 am Registration & Networking\n\n8:00 am - 8:15 am Conference Overview: Rob Henry\, Executive Director\, GVF\n\n8:15 am - 8:45 am Keynote Speaker: Congresswoman Chrissy Houlahan\n\n1012 West Eighth Ave\, Suite A\, King of Prussia\, PA 19406\n\n610.354.8899\n\nwww.gvftma.com\n\n8:55 am - 9:45 am - Elected Officials Panel:\n\n  PA State Representative Joseph Ciresi\n\n  PA State Representative Ben Sanchez\n\n  PA State Representative Joe Webster\n\n9:50 am- 10:50 am - Regional Panel:\n\n  Barry Seymour\, Executive Director\, DVRPC\n\n  Ken McClain\, District Executive\, PennDOT District 6-0\n\n  Bradley Heigel\, Chief Engineer\, PA Turnpike Commission\n\n  Jeff Knueppel\, General Manager\, SEPTA\n\n10:55 am - 11:55 am   Rapid Transit for Tomorrow:\n\n  Abbey Gancz\, Project Manager\, Urban Engineers\n\n  Mark Huffer\, Project Director\, Transit Practice Leader\, HNTB\n\n  Christopher Jandoli\, Mid-Atlantic Planning and Environment Manager\, WSP\n\n  Rick Kiegel\, Transportation Planning Manager\, RK&K\n\n12:00 pm   Lunch\n\n12:15 pm - Keynote Speaker:\n\n  Richard Gottlieb\, President\, COO\, Keystone Property Group
X-ALT-DESC;FMTTYPE=text/html:<h6 class="font_6" style="text-align: center\;"><span style="color: rgb(156\, 56\, 72)\;">Our half day event\, Advancing Mobility Summit\, is an opportunity for top local\, state\, and national elected officials\, private and public sector organizations\, and leaders in the transportation industry to speak on various transportation topics.</span></h6>\n\n<p class="font_8" style="text-align: center\; font-size: 17px\;">Year after year\, it draws over hundreds of executives who come together for networking and the opportunity to learn about best practices\, and relevant approaches in transportation demand management (TDM) strategies\, technology\, infrastructure and more.</p>\n\n<p class="font_8" style="font-size: 17px\;">Event agenda:<br />\n7:30 am-7:55 am Registration &amp\; Networking<br />\n8:00 am - 8:15 am Conference Overview: Rob Henry\, Executive Director\, GVF<br />\n8:15 am - 8:45 am Keynote Speaker: Congresswoman Chrissy Houlahan<br />\n1012 West Eighth Ave\, Suite A\, King of Prussia\, PA 19406<br />\n610.354.8899<br />\nwww.gvftma.com<br />\n8:55 am - 9:45 am - Elected Officials Panel:<br />\n&bull\; PA State Representative Joseph Ciresi<br />\n&bull\; PA State Representative Ben Sanchez<br />\n&bull\; PA State Representative Joe Webster<br />\n9:50 am- 10:50 am - Regional Panel:<br />\n&bull\; Barry Seymour\, Executive Director\, DVRPC<br />\n&bull\; Ken McClain\, District Executive\, PennDOT District 6-0<br />\n&bull\; Bradley Heigel\, Chief Engineer\, PA Turnpike Commission<br />\n&bull\; Jeff Knueppel\, General Manager\, SEPTA<br />\n10:55 am - 11:55 am &ndash\; Rapid Transit for Tomorrow:<br />\n&bull\; Abbey Gancz\, Project Manager\, Urban Engineers<br />\n&bull\; Mark Huffer\, Project Director\, Transit Practice Leader\, HNTB<br />\n&bull\; Christopher Jandoli\, Mid-Atlantic Planning and Environment Manager\, WSP<br />\n&bull\; Rick Kiegel\, Transportation Planning Manager\, RK&amp\;K<br />\n12:00 pm &ndash\; Lunch<br />\n12:15 pm - Keynote Speaker:<br />\n&bull\; Richard Gottlieb\, President\, COO\, Keystone Property Group</p>\n
LOCATION:Crowne Plaza- King of Prussia 260 Mall Blvd King of Prussia\, PA 19406
UID:e.2183.854608
SEQUENCE:3
DTSTAMP:20260420T113148Z
URL:https://business.tricountyareachamber.com/events/details/advancing-mobility-summit-854608
END:VEVENT

END:VCALENDAR
