BEGIN:VCALENDAR
VERSION:2.0
PRODID:-//ChamberMaster//Event Calendar 2.0//EN
METHOD:PUBLISH
X-PUBLISHED-TTL:P3D
REFRESH-INTERVAL:P3D
CALSCALE:GREGORIAN
BEGIN:VEVENT
DTSTART:20170408T122000Z
DTEND:20170408T153000Z
X-MICROSOFT-CDO-ALLDAYEVENT:FALSE
SUMMARY:Aerobathon: Every Move Counts
DESCRIPTION:The Pottstown YMCA will be holding our Group Exercise event to help build healthy families and kids through the Annual Campaign. \n\n  Spend 3 hours working up a sweat or stop in for just part of the day. \n\n  No other Group Exercise Classes will run on this day.\n\n  Light refreshments available throughout the day.\n\n* Bonus: For the event Child Watch will have extended hours\, for Members Only\, from 8-11:45am.  \n\n \n\n Schedule:\n\n8:20-8:30am      Check In\n\n8:30-8:40am      Intro./Warm up      Jen\n\n8:40-9:00am      Combat                 Lauren\n\n9:00-9:20am      Zumba                  Jolie\n\n9:20-9:40am      CX                        Lauren\n\n9:40-10:00am    Flow                     Jenn/Ange\n\n10:00-10:10am  BREAK\n\n10:10-10:30am  Pump                  Carol\n\n10:30-10:50am  HIIT                     Mihae\n\n10:50-11:10am  Trim N Sculpt       Bridget\n\n11:10-11:30am  Yoga                   Tricia\n\n \n\nCOST:        $5 per Member \n\n                 $10 per Non-Member\n\n(The cost includes all classes during the Thon) \n\n*Register early at the Welcome Center or at the Event
X-ALT-DESC;FMTTYPE=text/html:<span style="font-family:arial\,helvetica\,sans-serif"><span style="font-size:13pt">&nbsp\;The Pottstown YMCA will be holding our Group Exercise event to help build healthy families and kids through the Annual Campaign. </span><br />\n<span style="font-size:10.0pt">&middot\;</span>&nbsp\;<span style="font-size:13.0pt">Spend 3 hours working up a sweat or stop in for just part of the day. </span><br />\n<span style="font-size:10.0pt">&middot\;</span>&nbsp\;<span style="font-size:13.0pt">No other Group Exercise Classes will run on this day.</span><br />\n<span style="font-size:10.0pt">&middot\;</span>&nbsp\;<span style="font-size:13.0pt">Light refreshments available throughout the day.</span><br />\n<span style="font-size:10.0pt">*</span>&nbsp\;<span style="font-size:15.0pt">Bonus: </span><span style="font-size:13.0pt">For the event Child Watch will have extended hours\, for </span><span style="font-size:15.0pt">Members Only\,</span><span style="font-size:13.0pt"> from 8-11:45am.&nbsp\; </span></span><br />\n&nbsp\;<br />\n&nbsp\;<u><span style="font-family:cachet book"><span style="font-size:18.0pt">Schedule:</span></span></u><br />\n<span style="font-family:cachet book"><span style="font-size:14.0pt">8:20-8:30am&nbsp\;&nbsp\;&nbsp\;&nbsp\;&nbsp\;&nbsp\;Check In</span></span><br />\n<span style="font-family:cachet book"><span style="font-size:14.0pt">8:30-8:40am&nbsp\;&nbsp\;&nbsp\;&nbsp\;&nbsp\;&nbsp\;Intro./Warm up&nbsp\;&nbsp\;&nbsp\;&nbsp\;&nbsp\;&nbsp\;Jen</span></span><br />\n<span style="font-family:cachet book"><span style="font-size:14.0pt">8:40-9:00am&nbsp\;&nbsp\;&nbsp\;&nbsp\;&nbsp\;&nbsp\;Combat&nbsp\;&nbsp\;&nbsp\;&nbsp\;&nbsp\;&nbsp\;&nbsp\;&nbsp\;&nbsp\;&nbsp\;&nbsp\;&nbsp\;&nbsp\;&nbsp\;&nbsp\;&nbsp\;&nbsp\;Lauren</span></span><br />\n<span style="font-family:cachet book"><span style="font-size:14.0pt">9:00-9:20am&nbsp\;&nbsp\;&nbsp\;&nbsp\;&nbsp\;&nbsp\;Zumba&nbsp\;&nbsp\;&nbsp\;&nbsp\;&nbsp\;&nbsp\;&nbsp\;&nbsp\;&nbsp\;&nbsp\;&nbsp\;&nbsp\;&nbsp\;&nbsp\;&nbsp\;&nbsp\;&nbsp\; Jolie</span></span><br />\n<span style="font-family:cachet book"><span style="font-size:14.0pt">9:20-9:40am&nbsp\;&nbsp\;&nbsp\;&nbsp\;&nbsp\; CX&nbsp\;&nbsp\;&nbsp\;&nbsp\;&nbsp\;&nbsp\;&nbsp\;&nbsp\;&nbsp\;&nbsp\;&nbsp\;&nbsp\;&nbsp\;&nbsp\;&nbsp\;&nbsp\;&nbsp\;&nbsp\;&nbsp\;&nbsp\;&nbsp\;&nbsp\; &nbsp\;Lauren</span></span><br />\n<span style="font-family:cachet book"><span style="font-size:14.0pt">9:40-10:00am&nbsp\;&nbsp\;&nbsp\;&nbsp\;Flow&nbsp\;&nbsp\;&nbsp\;&nbsp\;&nbsp\;&nbsp\;&nbsp\;&nbsp\;&nbsp\;&nbsp\;&nbsp\;&nbsp\;&nbsp\;&nbsp\;&nbsp\;&nbsp\;&nbsp\;&nbsp\;&nbsp\;&nbsp\; Jenn/Ange</span></span><br />\n<span style="font-family:cachet book"><span style="font-size:14.0pt">10:00-10:10am&nbsp\;&nbsp\;BREAK</span></span><br />\n<span style="font-family:cachet book"><span style="font-size:14.0pt">10:10-10:30am&nbsp\;&nbsp\;Pump&nbsp\;&nbsp\;&nbsp\;&nbsp\;&nbsp\;&nbsp\;&nbsp\;&nbsp\;&nbsp\;&nbsp\;&nbsp\;&nbsp\;&nbsp\;&nbsp\;&nbsp\;&nbsp\;&nbsp\; Carol</span></span><br />\n<span style="font-family:cachet book"><span style="font-size:14.0pt">10:30-10:50am&nbsp\; HIIT&nbsp\;&nbsp\;&nbsp\;&nbsp\;&nbsp\;&nbsp\;&nbsp\;&nbsp\;&nbsp\;&nbsp\;&nbsp\;&nbsp\;&nbsp\;&nbsp\;&nbsp\;&nbsp\;&nbsp\;&nbsp\;&nbsp\;&nbsp\; Mihae</span></span><br />\n<span style="font-family:cachet book"><span style="font-size:14.0pt">10:50-11:10am&nbsp\;&nbsp\;Trim N Sculpt&nbsp\;&nbsp\;&nbsp\;&nbsp\;&nbsp\;&nbsp\;&nbsp\;Bridget</span></span><br />\n<span style="font-family:cachet book"><span style="font-size:14.0pt">11:10-11:30am&nbsp\;&nbsp\;Yoga&nbsp\;&nbsp\;&nbsp\;&nbsp\;&nbsp\;&nbsp\;&nbsp\;&nbsp\;&nbsp\;&nbsp\;&nbsp\;&nbsp\;&nbsp\; &nbsp\;&nbsp\;&nbsp\;&nbsp\; Tricia</span></span><br />\n&nbsp\;<br />\n<span style="font-family:cachet bold"><span style="font-size:13.0pt">COST:</span></span><span style="font-family:cachet book"><span style="font-size:13.0pt">&nbsp\;&nbsp\;&nbsp\;&nbsp\;&nbsp\;&nbsp\;&nbsp\; $5 per Member </span></span><br />\n<span style="font-family:cachet book"><span style="font-size:13.0pt">&nbsp\;&nbsp\;&nbsp\;&nbsp\;&nbsp\;&nbsp\;&nbsp\;&nbsp\;&nbsp\;&nbsp\;&nbsp\;&nbsp\;&nbsp\;&nbsp\;&nbsp\;&nbsp\; $10 per Non-Member</span></span><br />\n<span style="font-family:cachet book"><span style="font-size:13.0pt">(The cost includes all classes during the Thon) </span></span><br />\n<span style="font-family:cachet book"><span style="font-size:12.0pt">*Register early at the Welcome Center or at the Event</span></span><br />\n<span style="font-size:13pt"><font face="cachet book">&nbsp\; &nbsp\; &nbsp\; &nbsp\; &nbsp\; &nbsp\; &nbsp\; &nbsp\; &nbsp\; &nbsp\; &nbsp\; &nbsp\;&nbsp\;</font></span><br />\n&nbsp\;<br />\n&nbsp\;
LOCATION:LOCATION: POTTSTOWN YMCA 724 N. Adams St. Pottstown\, PA 19464
UID:e.2183.847614
SEQUENCE:3
DTSTAMP:20260420T181253Z
URL:https://business.tricountyareachamber.com/events/details/aerobathon-every-move-counts-847614
END:VEVENT

END:VCALENDAR
