BEGIN:VCALENDAR
VERSION:2.0
PRODID:-//ChamberMaster//Event Calendar 2.0//EN
METHOD:PUBLISH
X-PUBLISHED-TTL:P3D
REFRESH-INTERVAL:P3D
CALSCALE:GREGORIAN
BEGIN:VEVENT
DTSTART:20180318T200000Z
DTEND:20180318T213000Z
X-MICROSOFT-CDO-ALLDAYEVENT:FALSE
SUMMARY:Alan Morrison Heefner Organ Recital
DESCRIPTION:Alan Morrison Organ Recital
X-ALT-DESC;FMTTYPE=text/html:Alan Morrison Organ Recital&nbsp\;
LOCATION:Bomberger Hall Auditorium Urisinus College
UID:e.2183.850262
SEQUENCE:3
DTSTAMP:20260421T124714Z
URL:https://business.tricountyareachamber.com/events/details/alan-morrison-heefner-organ-recital-850262
END:VEVENT

END:VCALENDAR
