BEGIN:VCALENDAR
VERSION:2.0
PRODID:-//ChamberMaster//Event Calendar 2.0//EN
METHOD:PUBLISH
X-PUBLISHED-TTL:P3D
REFRESH-INTERVAL:P3D
CALSCALE:GREGORIAN
BEGIN:VEVENT
DTSTART:20180224T140000Z
DTEND:20180224T210000Z
X-MICROSOFT-CDO-ALLDAYEVENT:FALSE
SUMMARY:All.Girl! Convention
DESCRIPTION:Leadership & Wellness Convention\n\nYWCA Tri-County Area is a leader in empowering young girls to live boldly and choose wisely\, teaching them how to make healthy choices in all aspect of their lives - socially\, emotionally and physically. Through YW3CA programming\, girls learn to become leaders advocating for themselves and others in and around their communities with a strong emphasis and focus on cultivating ideas centered around the economic empowerment of women and girls and eliminating racism.\n\nThe 3rd Annual All.Girl! Leadership and Wellness Convention brings girls in 3rd to 12th grade together for a fun\, interactive\, empowering day. Grouped by grade level\, attendees will join workshops on topics such as stress management\, self-resiliency\, leadership\, self-defense\, financial literacy\, social change\, and conflict management. It is our aim that your daughter walk away with a new sense of determination and grit\, understanding that she can make a difference in her own life and others around her while cultivating new friendships and perhaps\, strengthening old ones.\n\nIt is a day of fun... It is a day of learning... It is a day of discovery... It is a day of "I CAN!"\n\nFor more information contact Kristie Piacine at: kpiacine@ywcatricountyarea.org\n\nWe need volunteers! Contact Kristie Piacine if you can help out!
X-ALT-DESC;FMTTYPE=text/html:<p background-color:="" color:="" helvetica="" style="margin: 0px 0px 10px\; padding: 0px\; border: 0px\; font-variant-numeric: inherit\; font-variant-east-asian: inherit\; font-stretch: inherit\; font-size: 14px\; line-height: inherit\; text-align: center\;" vertical-align:=""><strong><em>Leadership &amp\; Wellness Convention</em></strong></p>\n\n<p background-color:="" color:="" helvetica="" style="margin: 0px 0px 10px\; padding: 0px\; border: 0px\; font-variant-numeric: inherit\; font-variant-east-asian: inherit\; font-stretch: inherit\; font-size: 14px\; line-height: inherit\; font-family: Arial\, " vertical-align:="">YWCA Tri-County Area is a leader in empowering young girls to live boldly and choose wisely\, teaching them how to make healthy choices in all aspect of their lives - socially\, emotionally and physically. Through YW3CA programming\, girls learn to become leaders advocating for themselves and others in and around their communities with a strong emphasis and focus on cultivating ideas centered around the economic empowerment of women and girls and eliminating racism.</p>\n\n<p background-color:="" color:="" helvetica="" style="margin: 0px 0px 10px\; padding: 0px\; border: 0px\; font-variant-numeric: inherit\; font-variant-east-asian: inherit\; font-stretch: inherit\; font-size: 14px\; line-height: inherit\; font-family: Arial\, " vertical-align:="">The 3rd Annual All.Girl! Leadership and Wellness Convention brings girls in 3rd to 12th grade together for a fun\, interactive\, empowering day. Grouped by grade level\, attendees will join workshops on topics such as stress management\, self-resiliency\, leadership\, self-defense\, financial literacy\, social change\, and conflict management. It is our aim that your daughter walk away with a new sense of determination and grit\, understanding that she can make a difference in her own life and others around her while cultivating new friendships and perhaps\, strengthening old ones.</p>\n\n<p background-color:="" color:="" helvetica="" style="margin: 0px 0px 10px\; padding: 0px\; border: 0px\; font-variant-numeric: inherit\; font-variant-east-asian: inherit\; font-stretch: inherit\; font-size: 14px\; line-height: inherit\; font-family: Arial\, " vertical-align:="">It is a day of fun... It is a day of learning... It is a day of discovery... It is a day of &quot\;I CAN!&quot\;</p>\n\n<p style="margin: 0px 0px 10px\; padding: 0px\; border: 0px\; font-variant-numeric: inherit\; font-variant-east-asian: inherit\; font-stretch: inherit\; font-size: 14px\; line-height: inherit\; font-family: Arial\, &quot\;Helvetica Neue&quot\;\, Helvetica\, sans-serif\; vertical-align: baseline\; color: rgb(34\, 34\, 33)\; background-color: rgb(255\, 255\, 255)\;">For more information contact Kristie Piacine at:&nbsp\;<a href="mailto:kgrosser@ywcatricountyarea.org" style="margin: 0px\; padding: 0px\; border: 0px\; font-style: inherit\; font-variant: inherit\; font-weight: inherit\; font-stretch: inherit\; font-size: inherit\; line-height: inherit\; font-family: inherit\; vertical-align: baseline\;">kpiacine@ywcatricountyarea.org</a></p>\n\n<p style="margin: 0px 0px 10px\; padding: 0px\; border: 0px\; font-variant-numeric: inherit\; font-variant-east-asian: inherit\; font-stretch: inherit\; font-size: 14px\; line-height: inherit\; font-family: Arial\, &quot\;Helvetica Neue&quot\;\, Helvetica\, sans-serif\; vertical-align: baseline\; color: rgb(34\, 34\, 33)\; background-color: rgb(255\, 255\, 255)\;">We need volunteers! Contact Kristie Piacine if you can help out!</p>\n
LOCATION:Montgomery County Community College West Campus 101 College Drive Pottstown\, PA 19464
UID:e.2183.849185
SEQUENCE:3
DTSTAMP:20260421T110555Z
URL:https://business.tricountyareachamber.com/events/details/all-girl-convention-849185
END:VEVENT

END:VCALENDAR
