BEGIN:VCALENDAR
VERSION:2.0
PRODID:-//ChamberMaster//Event Calendar 2.0//EN
METHOD:PUBLISH
X-PUBLISHED-TTL:P3D
REFRESH-INTERVAL:P3D
CALSCALE:GREGORIAN
BEGIN:VEVENT
DTSTART:20170128T180000Z
DTEND:20170128T200000Z
X-MICROSOFT-CDO-ALLDAYEVENT:FALSE
SUMMARY:All Out 2017 Hike at Stroud Preserve
DESCRIPTION:Natural Lands Trust teams up with REI's All Out 2017 campaign to inspire everyone to get outside. Natural Lands Trust's Stroud Preserve highlights 571 acres of culturally and ecologically important land in Chester County. This rolling mosaic of grasslands\, woodlands\, and working farmlands provides important habitat and resources for myriad birds and animals. Access to open space encourages healthy activity and emotional well-being\, builds community\, provides clean water and air\, and strengthens the economy good for individuals\, families\, friends\, and our region!
X-ALT-DESC;FMTTYPE=text/html:<span style="font-family:arial\,sans-serif\;"><span style="font-size:12.0pt\;">Natural Lands Trust teams up with </span></span><span style="font-family:times new roman\,serif\;"><span style="font-size:12.0pt\;"><a href="https://www.rei.com/all-out" target="_blank"><span style="text-decoration:none\;text-underline:none\;"><span style="color:windowtext\;"><span style="font-family:arial\,sans-serif\;">REI&rsquo\;s All Out 2017 campaign</span></span></span></a></span></span><span style="font-family:arial\,sans-serif\;"><span style="font-size:12.0pt\;"> to inspire everyone to get outside. Natural Lands Trust&rsquo\;s Stroud Preserve highlights&nbsp\;571 acres of culturally and ecologically important land in Chester County. This rolling mosaic of grasslands\, woodlands\, and working farmlands provides important habitat and resources for myriad birds and animals. Access to open space encourages healthy activity and emotional well-being\, builds community\, provides clean water and air\, and strengthens the economy&mdash\;good for individuals\, families\, friends\, and our region!</span></span>
LOCATION:Stroud Preserve 454 North Creek Road West Chester\, PA 19382
UID:e.2183.847409
SEQUENCE:3
DTSTAMP:20260420T132532Z
URL:https://business.tricountyareachamber.com/events/details/all-out-2017-hike-at-stroud-preserve-847409
END:VEVENT

END:VCALENDAR
