BEGIN:VCALENDAR
VERSION:2.0
PRODID:-//ChamberMaster//Event Calendar 2.0//EN
METHOD:PUBLISH
X-PUBLISHED-TTL:P3D
REFRESH-INTERVAL:P3D
CALSCALE:GREGORIAN
BEGIN:VEVENT
DTSTART:20180305T213000Z
DTEND:20180306T000000Z
X-MICROSOFT-CDO-ALLDAYEVENT:FALSE
SUMMARY:All You Can Eat California Buffet
DESCRIPTION:California Buffet\n\nReservations Preferred - 610.489.7272x138 - space is limited\n\n1st Seating: 4:30 - 5 PM\n\n2nd Seating: 6:15 - 6:30 PM\n\n\n\nCobb Salad with Mustard Vinaigrette\n\nAssorted California Pizzas\n\nSpring Vegetable Medley\n\nPotato-chive Cakes\n\nCreamy Roasted Garlic Soup with Dungeness Crab\n\nGrilled Chicken with Honey-Fig Sauce\n\nGrilled Skirt Steak\, Wild Mushrooms\, Zinfandel Butter\n\nSan Francisco Cioppino (Seafood Stew)\n\n\n\nDesserts\n\nPear and Honey Phyllo\n\nDeconstructed Root Beer Float\n\n\n\nAssorted Beverages
X-ALT-DESC;FMTTYPE=text/html:<div style="text-align: center\;"><strong>California Buffet</strong></div>\n\n<div>Reservations Preferred - 610.489.7272x138&nbsp\;- space is limited<br />\n<em>1st Seating: 4:30 - 5 PM<br />\n2nd Seating: 6:15 - 6:30 PM</em></div>\n\n<div style="text-align: center\;"><br />\nCobb Salad with Mustard Vinaigrette<br />\nAssorted California Pizzas<br />\nSpring Vegetable Medley<br />\nPotato-chive Cakes<br />\nCreamy Roasted Garlic Soup with Dungeness Crab<br />\nGrilled Chicken with Honey-Fig Sauce<br />\nGrilled Skirt Steak\, Wild Mushrooms\, Zinfandel Butter<br />\nSan Francisco Cioppino (Seafood Stew)<br />\n<br />\n<strong>Desserts</strong><br />\nPear and Honey Phyllo<br />\nDeconstructed Root Beer Float<br />\n<br />\n<strong>Assorted Beverages</strong></div>\n
LOCATION:Western Montgomery Career & Technology Center 77 Graterford Road Limerick\, PA 19468
UID:e.2183.849188
SEQUENCE:3
DTSTAMP:20260421T124013Z
URL:https://business.tricountyareachamber.com/events/details/all-you-can-eat-california-buffet-849188
END:VEVENT

END:VCALENDAR
