BEGIN:VCALENDAR
VERSION:2.0
PRODID:-//ChamberMaster//Event Calendar 2.0//EN
METHOD:PUBLISH
X-PUBLISHED-TTL:P3D
REFRESH-INTERVAL:P3D
CALSCALE:GREGORIAN
BEGIN:VEVENT
DTSTART:20240826T160000Z
DTEND:20240826T200000Z
X-MICROSOFT-CDO-ALLDAYEVENT:FALSE
SUMMARY:Aloha\, Hawaii - Open house
DESCRIPTION:Experience some tropical island vibes during our Aloha\, Hawaii - Open House event at Keystone Villa at Douglassville\, personal care building. Meet our team\, tour our community\, and sip some delicious tropical refreshments. Enjoy a complimentary hula dancing performance and a photo slide show of the Hawaiian Islands from 2-3 p.m. RSVPs are not required. Everyone is welcome!
X-ALT-DESC;FMTTYPE=text/html:Experience some tropical island vibes during our Aloha\, Hawaii - Open House event at Keystone Villa at Douglassville\, personal care building. Meet our team\, tour our community\, and sip some delicious tropical refreshments. Enjoy a complimentary hula dancing performance and a photo slide show of the Hawaiian Islands from 2-3 p.m. RSVPs are not required. Everyone is welcome!
LOCATION:Keystone Villa at Douglassville\, Personal Care building\, 1152 Ben Franklin Hwy E.
UID:e.2183.860970
SEQUENCE:3
DTSTAMP:20260421T085751Z
URL:https://business.tricountyareachamber.com/events/details/aloha-hawaii-open-house-860970
END:VEVENT

END:VCALENDAR
