BEGIN:VCALENDAR
VERSION:2.0
PRODID:-//ChamberMaster//Event Calendar 2.0//EN
METHOD:PUBLISH
X-PUBLISHED-TTL:P3D
REFRESH-INTERVAL:P3D
CALSCALE:GREGORIAN
BEGIN:VEVENT
DTSTART:20220428T223000Z
DTEND:20220428T233000Z
X-MICROSOFT-CDO-ALLDAYEVENT:FALSE
SUMMARY:Alzheimer’s and dementia support group
DESCRIPTION:Are you caring for a loved one living with memory impairment? Keystone Villa at Douglassville\, with guidance from the Alzheimer's Association\, offers family caregivers the support they need through insightful discussions during its monthly Alzheimer's and dementia support group. Our next session is Thursday\, April 28\, at 6:30 p.m. and meets at 1152 Ben Franklin Highway E. Alzheimer's and dementia 101 looks at what this disease is and other types of dementia\, changes that take place in the brain\, the different stages\, treatments and more. Meet other supportive\, caring\, and understanding members during this informative group session as we explore the needs of the diagnosed person and those who support them throughout their journey. RSVP by April 26\; please call Sue Okuniewski at 610-385-5002.
X-ALT-DESC;FMTTYPE=text/html:Are you caring for a loved one living with memory impairment? Keystone Villa at Douglassville\, with guidance from the Alzheimer&rsquo\;s Association\, offers family caregivers the support they need through insightful discussions during its monthly Alzheimer&rsquo\;s and dementia support group. Our next session is Thursday\, April 28\, at 6:30 p.m. and meets at 1152 Ben Franklin Highway E. Alzheimer&rsquo\;s and dementia 101 looks at what this disease is and other types of dementia\, changes that take place in the brain\, the different stages\, treatments and more. Meet other supportive\, caring\, and understanding members during this informative group session as we explore the needs of the diagnosed person and those who support them throughout their journey. RSVP by April 26\; please call Sue Okuniewski at 610-385-5002.
LOCATION:Keystone Villa at Douglassville
UID:e.2183.857669
SEQUENCE:3
DTSTAMP:20260424T185629Z
URL:https://business.tricountyareachamber.com/events/details/alzheimer-s-and-dementia-support-group-857669
END:VEVENT

END:VCALENDAR
