BEGIN:VCALENDAR
VERSION:2.0
PRODID:-//ChamberMaster//Event Calendar 2.0//EN
METHOD:PUBLISH
X-PUBLISHED-TTL:P3D
REFRESH-INTERVAL:P3D
CALSCALE:GREGORIAN
BEGIN:VEVENT
DTSTART:20200902T140000Z
DTEND:20200902T153000Z
X-MICROSOFT-CDO-ALLDAYEVENT:FALSE
SUMMARY:Alzheimer's Association Caregiver Support Group
DESCRIPTION:Phone RSVPs only.\n\nFor more information and to register\, please call Patty Winstead\, Sarahcare: 484-716-2729
X-ALT-DESC;FMTTYPE=text/html:<p style="margin: 0px 0px 20px\; padding: 0px\; color: rgb(28\, 28\, 27)\; font-family: &quot\;Avenir LT W01_45 Book1475508&quot\;\, sans-serif\; font-size: 18px\; background-color: rgb(255\, 255\, 255)\;">Phone RSVPs only.</p>\n\n<p style="margin: 0px 0px 20px\; padding: 0px\; color: rgb(28\, 28\, 27)\; font-family: &quot\;Avenir LT W01_45 Book1475508&quot\;\, sans-serif\; font-size: 18px\; background-color: rgb(255\, 255\, 255)\;">For more information and to register\, please call Patty Winstead\, Sarahcare: 484-716-2729</p>\n
LOCATION:Pottstown Hospital Chesmont Professional Building Classroom 2 (entrance located in rear of building) 13 Armand Hammer Blvd. Pottstown\, PA 19464
UID:e.2183.854701
SEQUENCE:3
DTSTAMP:20260425T214918Z
URL:https://business.tricountyareachamber.com/events/details/alzheimer-s-association-caregiver-support-group-09-02-2020-854701
END:VEVENT

END:VCALENDAR
