BEGIN:VCALENDAR
VERSION:2.0
PRODID:-//ChamberMaster//Event Calendar 2.0//EN
METHOD:PUBLISH
X-PUBLISHED-TTL:P3D
REFRESH-INTERVAL:P3D
CALSCALE:GREGORIAN
BEGIN:VEVENT
DTSTART;VALUE=DATE:20171017
DTEND;VALUE=DATE:20171018
TRANSP:TRANSPARENT
X-MICROSOFT-CDO-ALLDAYEVENT:TRUE
SUMMARY:Amazing Raise - TriCounty Area Chamber of Commerce Foundation\, Inc.
DESCRIPTION:The TriCounty Area Chamber of Commerce (TCACC) Foundation\, Inc. is a nonprofit organization established in 2002 to promote community and workforce development in western Montgomery\, southeastern Berks\, and northern Chester Counties. An affiliate of the TriCounty Area Chamber of Commerce\, the Foundation solicits funds from Chamber Member businesses to support community development and leadership programs.\n\nPrograms supported under the Foundation include: Leadership Tri-County and the Worksite Wellness Initiative.\n\n\n\nPlease take a moment to consider donating online on Gives Day - October 17!
X-ALT-DESC;FMTTYPE=text/html:<span style="color: rgb(102\, 102\, 102)\; font-family: Lato\, Helvetica\, Arial\, sans-serif\; font-size: 16px\;">The TriCounty Area Chamber of Commerce (TCACC) Foundation\, Inc. is a nonprofit organization established in 2002 to promote community and workforce development in western Montgomery\, southeastern Berks\, and northern Chester Counties. An affiliate of the TriCounty Area Chamber of Commerce\, the Foundation solicits funds from Chamber Member businesses to support community development and leadership programs.<br />\nPrograms supported under the Foundation include: Leadership Tri-County and the Worksite Wellness Initiative.<br />\n<br />\nPlease take a moment to consider donating <a href="https://www.amazingraisetricounty.org/tricountyareachamberofcommercefoundationinc">online</a>&nbsp\;on Gives Day - October 17!&nbsp\;</span>
LOCATION:Donate online at: https://www.amazingraisetricounty.org/tricountyareachamberofcommercefoundationinc
UID:e.2183.848799
SEQUENCE:3
DTSTAMP:20260421T042954Z
URL:https://business.tricountyareachamber.com/events/details/amazing-raise-tricounty-area-chamber-of-commerce-foundation-inc-848799
END:VEVENT

END:VCALENDAR
