BEGIN:VCALENDAR
VERSION:2.0
PRODID:-//ChamberMaster//Event Calendar 2.0//EN
METHOD:PUBLISH
X-PUBLISHED-TTL:P3D
REFRESH-INTERVAL:P3D
CALSCALE:GREGORIAN
BEGIN:VEVENT
DTSTART:20170207T183000Z
DTEND:20170207T193000Z
X-MICROSOFT-CDO-ALLDAYEVENT:FALSE
SUMMARY:Amplifying Your Social Media with Video
DESCRIPTION:Video has become one of the most versatile sales tools for businesses. With the ability to be shared across an endless variety of channels\, video provides unquestionable added value. Whether you are creating and promoting a profile spotlight\, a how-to video\, capabilities highlights\, or a tutorial\, Zach will equip you to reach your target audiences quickly.  This workshop will help you:\n\n  Properly market your business using video on social media\n\n  Tips & tricks to make sure your videos get the most visibility (increased viewership)\n\n  Get inspired with video ideas for your business\n\n  Understand the future of video and how it will affect your business
X-ALT-DESC;FMTTYPE=text/html:<p class="p1" style="box-sizing: inherit\; margin: 0px 0px 15px\; color: rgb(64\, 64\, 64)\; font-family: &quot\;Open Sans&quot\;\, sans-serif\; font-size: 16px\; background-color: rgb(255\, 255\, 255)\;">Video has become one of the most versatile sales tools for businesses. With the ability to be shared across an endless variety of channels\, video provides unquestionable added value. Whether you are creating and promoting a profile spotlight\, a how-to video\, capabilities highlights\, or a tutorial\, Zach will equip you to reach your target audiences quickly.&nbsp\; <span class="s1" style="box-sizing: inherit\;">T</span><span class="s2" style="box-sizing: inherit\;">his workshop will help you:</span></p>\n\n<p class="p1" style="box-sizing: inherit\; margin: 0px 0px 15px\; color: rgb(64\, 64\, 64)\; font-family: &quot\;Open Sans&quot\;\, sans-serif\; font-size: 16px\; background-color: rgb(255\, 255\, 255)\;"><span class="s1" style="box-sizing: inherit\;">&bull\;</span><span class="s2" style="box-sizing: inherit\;">&nbsp\;Properly market your business using video on social media</span><br style="box-sizing: inherit\;" />\n<span class="s1" style="box-sizing: inherit\;">&bull\;</span><span class="s2" style="box-sizing: inherit\;">&nbsp\;Tips &amp\; tricks to make sure your videos get the most visibility (increased viewership)</span><br style="box-sizing: inherit\;" />\n<span class="s1" style="box-sizing: inherit\;">&bull\;</span><span class="s2" style="box-sizing: inherit\;">&nbsp\;Get inspired with video ideas for your business</span><br style="box-sizing: inherit\;" />\n<span class="s1" style="box-sizing: inherit\;">&bull\;</span><span class="s2" style="box-sizing: inherit\;">&nbsp\;Understand the future of video and how it will affect your business</span></p>\n
LOCATION:Productivity Pointe 152 E. High St.\, Suite 440 Pottstown\, PA 19464
UID:e.2183.847475
SEQUENCE:3
DTSTAMP:20260420T152056Z
URL:https://business.tricountyareachamber.com/events/details/amplifying-your-social-media-with-video-847475
END:VEVENT

END:VCALENDAR
