BEGIN:VCALENDAR
VERSION:2.0
PRODID:-//ChamberMaster//Event Calendar 2.0//EN
METHOD:PUBLISH
X-PUBLISHED-TTL:P3D
REFRESH-INTERVAL:P3D
CALSCALE:GREGORIAN
BEGIN:VEVENT
DTSTART:20210518T223000Z
DTEND:20210518T233000Z
X-MICROSOFT-CDO-ALLDAYEVENT:FALSE
SUMMARY:An Evening with the ER
DESCRIPTION:Join us for an evening with the Pottstown Hospital Emergency Department to learn about:\n\n \n\nWhat to expect when you visit the Emergency Department\n\nWhen should you visit the Emergency Department \n\nUrgent Care vs. Telehealth vs. Emergency Department vs. Primary Care Office\n\nHow the Emergency Department is keeping you safe during the COVID-19 pandemic\n\n\nInstructor(s)\n\n\n	Peter Tsao\, DO
X-ALT-DESC;FMTTYPE=text/html:<div class="TopicText" id="VsMasterPage_MainContent_TopicText" style="margin: 0px\; padding: 0px\; box-sizing: border-box\; color: rgb(64\, 64\, 65)\; font-family: canada-type-gibson\, Helvetica\, Arial\, &quot\;Nimbus Sans L&quot\;\, sans-serif\; font-size: 19.2px\;">\n<p style="margin: 0px 0px 20px\; padding: 0px\; box-sizing: border-box\;">Join us for an evening with the Pottstown Hospital Emergency Department to learn about:</p>\n\n<p style="margin: 0px 0px 20px\; padding: 0px\; box-sizing: border-box\;">&nbsp\;</p>\n\n<p style="margin: 0px 0px 20px\; padding: 0px\; box-sizing: border-box\;">What to expect when you visit the Emergency Department</p>\n\n<p style="margin: 0px 0px 20px\; padding: 0px\; box-sizing: border-box\;">When should you visit the Emergency Department&nbsp\;</p>\n\n<p style="margin: 0px 0px 20px\; padding: 0px\; box-sizing: border-box\;">Urgent Care vs. Telehealth vs. Emergency Department vs. Primary Care Office</p>\n\n<p style="margin: 0px 0px 20px\; padding: 0px\; box-sizing: border-box\;">How the Emergency Department is keeping you safe during the COVID-19 pandemic</p>\n</div>\n\n<h3 style="margin: 0.85714em 0px 0.64286em\; padding: 0px\; box-sizing: border-box\; font-family: &quot\;Avenir LT W01_45 Book1475508&quot\;\, sans-serif\; color: rgb(0\, 48\, 85)\; font-size: 1.75em\; line-height: 1.15714em\;">Instructor(s)</h3>\n\n<ul style="margin: 0px 0px 30px 0.6em\; padding: 0px 0px 0px 0.6em\; box-sizing: border-box\; line-height: inherit\; color: rgb(64\, 64\, 65)\; font-family: canada-type-gibson\, Helvetica\, Arial\, &quot\;Nimbus Sans L&quot\;\, sans-serif\; font-size: 19.2px\;">\n	<li id="VsMasterPage_MainContent_Instructors_ctl01_InstructorName" style="margin: 0px 0px 0.6em\; padding: 0px\; box-sizing: border-box\;">Peter Tsao\, DO</li>\n</ul>\n
LOCATION:Pottstown Hospital 1600 East High Street Pottstown\, PA 19464
UID:e.2183.856603
SEQUENCE:3
DTSTAMP:20260425T103344Z
URL:https://business.tricountyareachamber.com/events/details/an-evening-with-the-er-856603
END:VEVENT

END:VCALENDAR
