BEGIN:VCALENDAR
VERSION:2.0
PRODID:-//ChamberMaster//Event Calendar 2.0//EN
METHOD:PUBLISH
X-PUBLISHED-TTL:P3D
REFRESH-INTERVAL:P3D
CALSCALE:GREGORIAN
BEGIN:VEVENT
DTSTART:20200119T203000Z
DTEND:20200119T223000Z
X-MICROSOFT-CDO-ALLDAYEVENT:FALSE
SUMMARY:Annual Community Martin Luther King\, Jr. Celebration
DESCRIPTION:Remembering the life and work of Dr. Martin Luther King\, Jr.\n\nBusiness\, political\, religious\, educational\, and community leaders\, as well as students and youth are encouraged to attend. Refreshments will immediately follow the celebration.\n\n\n\nGuest Preacher - Rev. Brandon C. Harris\, M.Div.\, Protestant Chaplain at Georgetown University
X-ALT-DESC;FMTTYPE=text/html:<div style="text-align: center\;"><em><strong>Remembering the life and work of Dr. Martin Luther King\, Jr.</strong></em></div>\n\n<div>Business\, political\, religious\, educational\, and community leaders\, as well as students and youth are encouraged to attend. Refreshments will immediately follow the celebration.<br />\n<br />\nGuest Preacher - Rev. Brandon C. Harris\, M.Div.\, Protestant Chaplain at Georgetown University</div>\n
LOCATION:The Hill School Alumni Chapel 860 Beech Street Pottstown\, PA 19464
UID:e.2183.854678
SEQUENCE:3
DTSTAMP:20260421T134653Z
URL:https://business.tricountyareachamber.com/events/details/annual-community-martin-luther-king-jr-celebration-854678
END:VEVENT

END:VCALENDAR
