BEGIN:VCALENDAR
VERSION:2.0
PRODID:-//ChamberMaster//Event Calendar 2.0//EN
METHOD:PUBLISH
X-PUBLISHED-TTL:P3D
REFRESH-INTERVAL:P3D
CALSCALE:GREGORIAN
BEGIN:VEVENT
DTSTART:20160421T210000Z
DTEND:20160422T010000Z
X-MICROSOFT-CDO-ALLDAYEVENT:FALSE
SUMMARY:Annual Dinner
DESCRIPTION:Please call 610.326.2900 to register.\n\n\n\nBe empowered in both your professional and personal life.  Janine Driver\, New York Times Best-Selling Author and Media Expert for NBC's Today Show\, 20/20\, and CNN\, will present on How to Use the New Body Language to Increase Your Bottom Line and how people communicate their thoughts without saying a word. \n\n\n\nChamber Stars Awards - Winners Announced!\n\n\n	Business / Enterprise of the Year - Hollenbach Construction\, Inc.\n	Entrepreneur of the Year - Jose Acosta\, Midcore Solutions\n	The Andrew J. Paravis Excellence in Local Government or Education - Dr. Jeffrey Sparagana\, Pottstown School District\n	Nonprofit of the Year - TriCounty Active Adult Center\n	Ambassador of the Year - Ray Maillet\, First Priority Bank\n	Volunteer of the Year - Josh Petrauskas\, Furniture Soup\, Inc.\n\n\n\n\nBalloon Pop - Help us celebrate success with a bang! Attendees can purchase a ticket for a balloon for $20. Balloons will be popped during the closing reception of the Dinner - prizes are valued at a minimum of $25. \n\nPlease contact Kitty by April 20 if you would like to purchase a balloon. \n\n\n\nSponsorship opportunities available - click here for more details! Contact Kitty Papp at 610-326-2900 or kitty@tricountyareachamber.com.\n\n\nThank you to our Speaker Sponsor CODY Systems!
X-ALT-DESC;FMTTYPE=text/html:<p style="line-height: 20.8px\;"><span style="font-family:times new roman\,serif\;"><span style="font-size:12.0pt\;"><span style="font-size:12px\;"><span style="font-family:arial\;"><span style="font-size:14px\;"><strong><span style="color:#FF0000\;">Please call 610.326.2900 to register.</span></strong></span><br />\n<br />\nBe <strong>empowered</strong> in both your professional and personal life.<strong>&nbsp\; Janine Driver</strong>\, New York Times Best-Selling Author and Media Expert for NBC&rsquo\;s Today Show\, 20/20\, and CNN\, will present on <strong>How to Use the New Body Language to Increase Your Bottom Line</strong> and how people communicate their thoughts without saying a word.&nbsp\;<br />\n<br />\n<strong>Chamber Stars Awards</strong> - Winners Announced!</span></span></span></span></p>\n\n<ul>\n	<li style="line-height: 20.8px\;">Business / Enterprise of the Year - <a href="http://hollenbach.com/"><strong>Hollenbach Construction\, Inc.</strong></a></li>\n	<li style="line-height: 20.8px\;">Entrepreneur of the Year - <strong>Jose Acosta\, <a href="http://www.midcoresolutions.com/">Midcore Solutions</a></strong></li>\n	<li style="line-height: 20.8px\;">The Andrew J. Paravis Excellence in Local Government or Education - <strong>Dr. Jeffrey Sparagana\, <a href="http://www.pottstownschools.com/">Pottstown School District</a></strong></li>\n	<li style="line-height: 20.8px\;">Nonprofit of the Year - <a href="http://www.tricountyaac.org/"><strong>TriCounty Active Adult Center</strong></a></li>\n	<li style="line-height: 20.8px\;">Ambassador of the Year - <strong>Ray Maillet\, <a href="https://www.fpbk.com/">First Priority Bank</a></strong></li>\n	<li style="line-height: 20.8px\;">Volunteer of the Year - <strong>Josh Petrauskas\, <a href="http://furnituresoup.com/">Furniture Soup\, Inc.</a></strong></li>\n</ul>\n\n<p style="line-height: 20.8px\;"><br />\n<span style="font-size:12px\;"><span style="font-family:arial\;"><strong>Balloon Pop -&nbsp\;</strong>Help us celebrate success with a bang! Attendees can purchase a ticket for a balloon for $20. Balloons will be popped during the closing reception of the Dinner - prizes are valued at a minimum of $25.&nbsp\;<br />\nPlease contact <a href="mailto:kitty@tricountyareachamber.com">Kitty</a> by April 20&nbsp\;if you would like to&nbsp\;purchase a balloon.&nbsp\;</span></span><br />\n<br />\n<span style="font-size: 12px\;"><span style="font-family: arial\;"><strong>Sponsorship opportunities</strong> available - <a href="https://chambermaster.blob.core.windows.net/userfiles/UserFiles/chambers/2183/File/SponsorOpportunities.pdf">click here</a> for more details!&nbsp\;Contact Kitty&nbsp\;Papp&nbsp\;at 610-326-2900 or&nbsp\;<a href="mailto:kitty@tricountyareachamber.com">kitty@tricountyareachamber.com</a>.</span></span></p>\n<br />\n<strong>Thank you to our Speaker Sponsor <a href="http://www.codysystems.com/">CODY Systems</a>!</strong>
LOCATION:RiverCrest Golf Club & Preserve 100 Golf Club Dr. Phoenixville\, PA 19460
UID:e.2183.845270
SEQUENCE:3
DTSTAMP:20260425T160646Z
URL:https://business.tricountyareachamber.com/events/details/annual-dinner-04-21-2016-845270
END:VEVENT

END:VCALENDAR
