BEGIN:VCALENDAR
VERSION:2.0
PRODID:-//ChamberMaster//Event Calendar 2.0//EN
METHOD:PUBLISH
X-PUBLISHED-TTL:P3D
REFRESH-INTERVAL:P3D
CALSCALE:GREGORIAN
BEGIN:VEVENT
DTSTART:20180303T213000Z
DTEND:20180304T023000Z
X-MICROSOFT-CDO-ALLDAYEVENT:FALSE
SUMMARY:Annual Dinner & Musical Gala
DESCRIPTION:All-District Musical!\n\nFoundation for Pottstown Education's Annual Dinner to include:\n\n	Mocktails and dinner\n	Silent Auction\n	Attendace to the musical - The Little Mermaid
X-ALT-DESC;FMTTYPE=text/html:All-District Musical!<br />\nFoundation for Pottstown Education&#39\;s Annual Dinner to include:\n<ul>\n	<li>Mocktails and dinner</li>\n	<li>Silent Auction</li>\n	<li>Attendace to the musical - The Little Mermaid</li>\n</ul>\n
LOCATION:Pottstown High School Cafeteria & Davenport Performing Arts Center 750 N. Washington St. Pottstown\, PA 19464
UID:e.2183.849184
SEQUENCE:3
DTSTAMP:20260421T141608Z
URL:https://business.tricountyareachamber.com/events/details/annual-dinner-musical-gala-849184
END:VEVENT

END:VCALENDAR
