BEGIN:VCALENDAR
VERSION:2.0
PRODID:-//ChamberMaster//Event Calendar 2.0//EN
METHOD:PUBLISH
X-PUBLISHED-TTL:P3D
REFRESH-INTERVAL:P3D
CALSCALE:GREGORIAN
BEGIN:VEVENT
DTSTART:20230914T143000Z
DTEND:20230914T223000Z
X-MICROSOFT-CDO-ALLDAYEVENT:FALSE
SUMMARY:Annual Golf Outing and Clambake 2023
DESCRIPTION:Grab your clubs and invite your colleagues to play a round of golf with us on Thursday\, September 14th! Join us the newly renovated and upgraded Hickory Valley Golf Club for TCACC's Annual Golf Outing.  \n\n\n\nHickory Valley Golf Club has 80 new golf carts\, repaved roads\, removed trees for better play\, renovated the upstairs room\, and added a new deck to their club house.  Come see their changes\, enjoy time with fellow Chamber Members\, and play a round of golf.\n\n\n\nRegistration will begin at 10:30 AM with a networking lunch.  Be ready for a shotgun start at noon and then finish with an amazing Clambake Dinner from Moyer's Catering.\n\nPlayer Package for single or foursome golfers includes:  18 holes of golf\, golf cart\, complimentary use of the driving range\, networking lunch provided by Hickory Valley\, the popular Clambake Dinner provided by Moyer's Catering\, refreshments on the course with beer\, cash prizes\, complimentary games\, fun\, Hole In One prizes\, and goodie bag.\n\nCASH  PRIZES:\n\nFirst Place Team get $100 each player\n\nSecond Place Team gets $75 each player\n\nThird Place Team gets $50 each player\n\n\n\nLongest Drive gets $50 Gift Certificate\n\nClosest to the Pin gets $50 Gift Certificate\n\n\n\nHole-In-One Prizes too\n\nNot a golfer\, join us for the BBQ and Clambake Dinner at 4:30 PM\, under the pavilion\, as the golfers are coming off the course.  Come earlier to play corn hole and network with other Dinner Only guests.  *Reminder to bring cash to partake in our 50/50 and Chilling and Grilling Prize Raffle. Register as a Dinner Only Attendee.\n\n\n\nDinner Menu includes: \n1 Dozen Steamed Clams\n\n8-10 oz. Delmonico Steak\n\nBBQ Chicken\n\nBaked Potato\n\nCorn on the Cob\n\nClam Chowder\n\nCole Slaw\n\nFresh Rolls & Butter\n\n______________________________________________________________________\n\n\n\nWe're looking for sponsors for our Outing. See the sponsorship opportunities here .\n\nGet your logo on the greens!  Become a Hole Tee Box Sponsor or Hole Pin Flag Sponsor.
X-ALT-DESC;FMTTYPE=text/html:<p><span style="font-size:16px\;"><span style="font-family:arial\;">Grab&nbsp\;your clubs and invite your colleagues to play a round of golf with us on Thursday\, September 14th! Join us the newly renovated and upgraded&nbsp\;Hickory Valley Golf Club for TCACC&#39\;s&nbsp\;<strong>Annual&nbsp\;Golf Outing</strong>.&nbsp\;&nbsp\;<br />\n<br />\nHickory Valley Golf Club has 80 new golf carts\, repaved roads\, removed&nbsp\;trees for better play\, renovated the upstairs room\, and added a new deck to their club house.&nbsp\; Come see their changes\, enjoy time with fellow Chamber Members\, and play a round of golf.<br />\n<br />\nRegistration will begin at 10:30 AM with a networking lunch.&nbsp\; Be ready for a shotgun start at noon and then finish with an amazing Clambake Dinner from Moyer&#39\;s Catering.</span></span></p>\n\n<p><span style="font-size:16px\;"><span style="font-family:arial\;">Player Package for single or foursome golfers includes:&nbsp\;&nbsp\;<em><span style="background:white\;"><span style="color:black\;">18 holes of golf\, golf cart\, complimentary use of the driving range\, networking&nbsp\;</span></span><span style="box-sizing:border-box\;font-variant-ligatures:normal\;font-variant-caps:normal\;orphans:2\;widows:2\;-webkit-text-stroke-width:0px\;text-decoration-thickness:initial\;text-decoration-style:initial\;word-spacing:0px\;"><span style="box-sizing:border-box\;"><span style="box-sizing:border-box\;">lunch provided by Hickory Valley\, the popular Clambake Dinner provided by Moyer&#39\;s Catering\, refreshments on the course with beer\, cash prizes\,&nbsp\;complimentary games\, fun\, Hole In One prizes\,&nbsp\;and goodie bag.</span></span></span></em></span></span></p>\n\n<p style="text-align: center\;"><strong><span style="font-size:18px\;"><u>CASH&nbsp\; PRIZES:</u><br />\nFirst Place Team get $100 each player<br />\nSecond Place Team gets $75 each player<br />\nThird Place Team gets $50 each player<br />\n<br />\nLongest Drive gets $50 Gift Certificate<br />\nClosest to the Pin gets $50 Gift Certificate<br />\n<br />\nHole-In-One Prizes too</span></strong></p>\n\n<p><span style="font-size:16px\;"><span style="font-family:arial\;">Not a golfer\, join us for the BBQ and Clambake</span><span style="font-family: arial\;">&nbsp\;Dinner</span></span><span style="font-family:arial\;"><span style="font-size:14px\;"><span style="font-size:16px\;">&nbsp\;at 4:30 PM\,&nbsp\;under the pavilion\, as the golfers are coming off the course.&nbsp\; Come earlier to play corn hole and network with other Dinner Only guests.&nbsp\; *<em>Reminder to bring cash to partake in our 50/50 and Chilling and Grilling Prize Raffle. Register as a Dinner Only Attendee.</em></span></span></span><br />\n<br />\n<strong style="color: rgb(0\, 0\, 0)\; font-family: verdana\;">Dinn</strong><strong style="font-family: verdana\; color: rgb(0\, 0\, 0)\;">er Menu includes</strong><span style="font-family: verdana\; color: rgb(0\, 0\, 0)\;">:&nbsp\;</span></p>\n<span style="color:#000000\;"><span style="font-family:verdana\;">1 Dozen Steamed Clams<br />\n8-10 oz. Delmonico Steak<br />\nBBQ Chicken<br />\nBaked Potato<br />\nCorn on the Cob<br />\nClam Chowder<br />\nCole Slaw<br />\nFresh Rolls &amp\; Butter<br />\n______________________________________________________________________</span></span><br />\n<br />\nWe&#39\;re looking for sponsors for our Outing.<a href="https://chambermaster.blob.core.windows.net/userfiles/UserFiles/chambers/2183/File/CANVA_proof_II-AYdYHzJzDTFW.pdf">&nbsp\;</a><a href="https://chambermaster.blob.core.windows.net/userfiles/UserFiles/chambers/2183/File/GolfOutingSponsorships-somesold.pdf">See the sponsorship opportunities here .</a><br />\n<b>Get your logo on the greens!&nbsp\; Become a Hole Tee Box Sponsor or Hole Pin Flag Sponsor.</b><br />\n&nbsp\;
LOCATION:Hickory Valley Golf Club
UID:e.2183.858512
SEQUENCE:3
DTSTAMP:20260419T222341Z
URL:https://business.tricountyareachamber.com/events/details/annual-golf-outing-and-clambake-2023-858512
END:VEVENT

END:VCALENDAR
