BEGIN:VCALENDAR
VERSION:2.0
PRODID:-//ChamberMaster//Event Calendar 2.0//EN
METHOD:PUBLISH
X-PUBLISHED-TTL:P3D
REFRESH-INTERVAL:P3D
CALSCALE:GREGORIAN
BEGIN:VEVENT
DTSTART:20151208T213000Z
DTEND:20151208T233000Z
X-MICROSOFT-CDO-ALLDAYEVENT:FALSE
SUMMARY:Annual Holiday Mixer and Business to Business Expo
DESCRIPTION:This year our annual Holiday Mixer will offer you a unique opportunity to gain exposure for your business and make connections with other Chamber members while enjoying refreshments donated by our Member restaurants and caterers. \n\n\n\nHoliday Wreath Auction: Businesses can donate a decorated wreath for members to bid on\, or provide a door prize for a business card drawing. \n\n\n\nTake PART\, Give Back: Pottstown Area Rapid Transit will be collecting donations to benefit the Pottstown Cluster of Religious Communities & Operation Backpack. Items in need include canned goods\, prepackaged meals\, and toiletries. Bring your donation to the event and receive a PART holiday ornament!\n\n\n\nExpo Tables are limited to 25 on a first come basis - SOLD OUT!\n\n\n\nSponsorships available. Please contact Kitty at 610.326.2900 or kitty@tricountyareachamber.com.
X-ALT-DESC;FMTTYPE=text/html:<br />\n<span style="font-size:12px\;"><span style="font-family:arial\;">This year our annual <strong>Holiday Mixer</strong> will offer you a unique opportunity to gain <strong>exposure for your business</strong> and <strong>make connections with other Chamber members</strong> while enjoying refreshments donated by our Member restaurants and caterers.&nbsp\;<br />\n<br />\n<strong>Holiday Wreath Auction:</strong> Businesses can donate a decorated wreath for members to bid on\, or provide a door prize for a business card drawing.&nbsp\;</span></span><br />\n<br />\n<strong>Take PART\, Give Back:</strong>&nbsp\;Pottstown Area Rapid Transit will be collecting donations to benefit the Pottstown Cluster of Religious Communities &amp\; Operation Backpack. Items in need include canned goods\, prepackaged meals\, and toiletries.&nbsp\;Bring your donation to the event and receive a PART holiday ornament!<br />\n<br />\n<span style="font-size:12px\;"><span style="font-family:arial\;">Expo Tables are limited to <strong>25 </strong>on a first come basis - <span style="color:#FF0000\;"><strong>SOLD OUT!</strong></span><br />\n<br />\nSponsorships available. Please contact Kitty at 610.326.2900 or <a href="mailto:kitty@tricountyareachamber.com">kitty@tricountyareachamber.com</a>.&nbsp\;</span></span>
LOCATION:Norco Fire Company 144 W. Schuylkill Rd. Pottstown\, PA 19465
UID:e.2183.845100
SEQUENCE:3
DTSTAMP:20260425T223448Z
URL:https://business.tricountyareachamber.com/events/details/annual-holiday-mixer-and-business-to-business-expo-12-08-2015-845100
END:VEVENT

END:VCALENDAR
