BEGIN:VCALENDAR
VERSION:2.0
PRODID:-//ChamberMaster//Event Calendar 2.0//EN
METHOD:PUBLISH
X-PUBLISHED-TTL:P3D
REFRESH-INTERVAL:P3D
CALSCALE:GREGORIAN
BEGIN:VEVENT
DTSTART:20180312T113000Z
DTEND:20180312T133000Z
X-MICROSOFT-CDO-ALLDAYEVENT:FALSE
SUMMARY:Annual Legislative Breakfast
DESCRIPTION:GVF's Legislative Breakfast offers an opportunity for attendees to hear from elected officials\, including Chester and Montgomery County Commissioners\, PA State Representatives\, PA State Senators and U.S. Congressmen\, on relevant updates on local\, state and federal issues.\n\nConfirmed speakers to date:\n\nMembers of Congress:\n\n\n	Congressman Dwight Evans\n\n\n \n\nPA State Representatives:\n\n\n	PA State Representative Kate Harper\n	PA State Representative Tim Briggs\n	PA State Representative Madeleine Dean\n	PA State Representative Matt Bradford\n	PA State Representative Mary Jo Daley\n\n\n \n\nCounty Commissioners:\n\n\n	Michelle Kichline\, Chair\, Chester County Commissioner\n\nRegister for the event here: https://www.eventbrite.com/e/annual-legislative-breakfast-tickets-39658215791
X-ALT-DESC;FMTTYPE=text/html:<p>GVF&rsquo\;s Legislative Breakfast offers an opportunity for attendees to hear from elected officials\, including Chester and Montgomery County Commissioners\, PA State Representatives\, PA State Senators and U.S. Congressmen\, on relevant updates on local\, state and federal issues.</p>\n\n<p>Confirmed speakers to date:</p>\n\n<p><strong>Members of Congress:</strong></p>\n\n<ul>\n	<li>Congressman Dwight Evans</li>\n</ul>\n\n<p>&nbsp\;</p>\n\n<div><strong>PA State Representatives:</strong></div>\n\n<ul>\n	<li>PA State Representative Kate Harper</li>\n	<li>PA State Representative Tim Briggs</li>\n	<li>PA State Representative Madeleine Dean</li>\n	<li>PA State Representative Matt Bradford</li>\n	<li>PA State Representative Mary Jo Daley</li>\n</ul>\n\n<p>&nbsp\;</p>\n\n<div><strong>County Commissioners:</strong></div>\n\n<ul>\n	<li>Michelle Kichline\, Chair\, Chester County Commissioner</li>\n</ul>\nRegister for the event here:&nbsp\;<a href="https://www.eventbrite.com/e/annual-legislative-breakfast-tickets-39658215791">https://www.eventbrite.com/e/annual-legislative-breakfast-tickets-39658215791</a>
LOCATION:Sheraton Valley Forge Hotel 480 North Gulph Road King of Prussia\, PA 19406
UID:e.2183.849211
SEQUENCE:3
DTSTAMP:20260421T123548Z
URL:https://business.tricountyareachamber.com/events/details/annual-legislative-breakfast-849211
END:VEVENT

END:VCALENDAR
