BEGIN:VCALENDAR
VERSION:2.0
PRODID:-//ChamberMaster//Event Calendar 2.0//EN
METHOD:PUBLISH
X-PUBLISHED-TTL:P3D
REFRESH-INTERVAL:P3D
CALSCALE:GREGORIAN
BEGIN:VEVENT
DTSTART:20170608T200000Z
DTEND:20170608T230000Z
X-MICROSOFT-CDO-ALLDAYEVENT:FALSE
SUMMARY:Antique Appraisal Show
DESCRIPTION:It's time to dig out your "treasures"!\n\n\nAttend an Antiques Appraisal Show on Thursday\, June 8 from 4 - 7 PM!\n\n\n\nBy popular request\, Kalejta Financial Management is partnering with Rick Linn LLC to provide this exclusive event.\n\nComplimentary appraisals are limited to the first 50 people to RSVP.\n\n\n\nEach guest (or couple) is invited to bring 1 antique item to be appraised.\n\n\n\nProfessional antique appraiser - Dr. Lori\, the star on the American TV show\, Auction Kings. Her show airs internationally on the Discovery Channel every Sunday.\n\n \nRSVP's must be received by Thursday\, May 25. Register online at www.kalejta.com or 610.831.2195.
X-ALT-DESC;FMTTYPE=text/html:<div style="text-align: center\;"><span style="font-size:14px\;"><em><strong>It&#39\;s time to dig out your &quot\;treasures&quot\;!</strong></em></span></div>\n<br />\nAttend an Antiques Appraisal Show on Thursday\, June 8 from 4 - 7 PM!<br />\n<br />\nBy popular request\, Kalejta Financial Management is partnering with Rick Linn LLC to provide this exclusive event.<br />\nComplimentary appraisals are limited to the first 50 people to RSVP.<br />\n<br />\nEach guest (or couple) is invited to bring 1 antique item to be appraised.<br />\n<br />\nProfessional antique appraiser - Dr. Lori\, the star on the American TV show\, <em>Auction Kings.&nbsp\;</em>Her show airs internationally on the Discovery Channel every Sunday.<br />\n&nbsp\;\n<div style="text-align: center\;"><span style="font-size:20px\;"><u><strong>RSVP&#39\;s must be received by Thursday\, May 25. Register online at www.kalejta.com or 610.831.2195.&nbsp\;</strong></u></span></div>\n
LOCATION:Sunnybrook Ballroom 50 Sunnybrook Road Pottstown\, PA 19464
UID:e.2183.847685
SEQUENCE:3
DTSTAMP:20260420T213504Z
URL:https://business.tricountyareachamber.com/events/details/antique-appraisal-show-847685
END:VEVENT

END:VCALENDAR
