BEGIN:VCALENDAR
VERSION:2.0
PRODID:-//ChamberMaster//Event Calendar 2.0//EN
METHOD:PUBLISH
X-PUBLISHED-TTL:P3D
REFRESH-INTERVAL:P3D
CALSCALE:GREGORIAN
BEGIN:VEVENT
DTSTART:20200912T140000Z
DTEND:20200912T160000Z
X-MICROSOFT-CDO-ALLDAYEVENT:FALSE
SUMMARY:Around the World Activity Kit
DESCRIPTION:Back to school is here! We have some fun to fit into whatever form of school your little ones are doing this year!\n\nThis Around The World Activity Kit includes 4 activities and a bonus game for each family! The activities include STEM\, crafts\, and music while 'traveling' the world!\n\nCurb-side pickup on Sept 12\, from 10am-12pm!\n\nRegister now for $5 a family no matter how many children.\n\n(when registering\, please only claim one ticket and answer the registration questions to let us know details about your kids!)\n\nRegistration ends Sept 5th or when all the kits are claimed!
X-ALT-DESC;FMTTYPE=text/html:<p style="margin: 0px\; padding: 0px\; border: 0px\; outline: 0px\; vertical-align: baseline\; background-image: initial\; background-position: 0px 0px\; background-size: initial\; background-repeat: initial\; background-attachment: initial\; background-origin: initial\; background-clip: initial\; min-height: 1.5em\; color: rgb(39\, 168\, 199)\; font-family: arial\, &quot\;&#65357\;&#65363\; &#65360\;&#12468\;&#12471\;&#12483\;&#12463\;&quot\;\, &quot\;ms pgothic&quot\;\, &#46027\;&#50880\;\, dotum\, helvetica\, sans-serif\; font-size: 16px\;">Back to school is here! We have some fun to fit into whatever form of school your little ones are doing this year!</p>\n\n<p style="margin: 0px\; padding: 0px\; border: 0px\; outline: 0px\; vertical-align: baseline\; background-image: initial\; background-position: 0px 0px\; background-size: initial\; background-repeat: initial\; background-attachment: initial\; background-origin: initial\; background-clip: initial\; min-height: 1.5em\; color: rgb(39\, 168\, 199)\; font-family: arial\, &quot\;&#65357\;&#65363\; &#65360\;&#12468\;&#12471\;&#12483\;&#12463\;&quot\;\, &quot\;ms pgothic&quot\;\, &#46027\;&#50880\;\, dotum\, helvetica\, sans-serif\; font-size: 16px\;">This Around The World Activity Kit includes 4 activities and a bonus game for each family! The activities include STEM\, crafts\, and music while &#39\;traveling&#39\; the world!</p>\n\n<p style="margin: 0px\; padding: 0px\; border: 0px\; outline: 0px\; vertical-align: baseline\; background-image: initial\; background-position: 0px 0px\; background-size: initial\; background-repeat: initial\; background-attachment: initial\; background-origin: initial\; background-clip: initial\; min-height: 1.5em\; color: rgb(39\, 168\, 199)\; font-family: arial\, &quot\;&#65357\;&#65363\; &#65360\;&#12468\;&#12471\;&#12483\;&#12463\;&quot\;\, &quot\;ms pgothic&quot\;\, &#46027\;&#50880\;\, dotum\, helvetica\, sans-serif\; font-size: 16px\;">Curb-side pickup on Sept 12\, from 10am-12pm!</p>\n\n<p style="margin: 0px\; padding: 0px\; border: 0px\; outline: 0px\; vertical-align: baseline\; background-image: initial\; background-position: 0px 0px\; background-size: initial\; background-repeat: initial\; background-attachment: initial\; background-origin: initial\; background-clip: initial\; min-height: 1.5em\; color: rgb(39\, 168\, 199)\; font-family: arial\, &quot\;&#65357\;&#65363\; &#65360\;&#12468\;&#12471\;&#12483\;&#12463\;&quot\;\, &quot\;ms pgothic&quot\;\, &#46027\;&#50880\;\, dotum\, helvetica\, sans-serif\; font-size: 16px\;">Register now for $5 a family no matter how many children.</p>\n\n<p style="margin: 0px\; padding: 0px\; border: 0px\; outline: 0px\; vertical-align: baseline\; background-image: initial\; background-position: 0px 0px\; background-size: initial\; background-repeat: initial\; background-attachment: initial\; background-origin: initial\; background-clip: initial\; min-height: 1.5em\; color: rgb(39\, 168\, 199)\; font-family: arial\, &quot\;&#65357\;&#65363\; &#65360\;&#12468\;&#12471\;&#12483\;&#12463\;&quot\;\, &quot\;ms pgothic&quot\;\, &#46027\;&#50880\;\, dotum\, helvetica\, sans-serif\; font-size: 16px\;">(when registering\, please only claim one ticket and answer the registration questions to let us know details about your kids!)</p>\n\n<p style="margin: 0px\; padding: 0px\; border: 0px\; outline: 0px\; vertical-align: baseline\; background-image: initial\; background-position: 0px 0px\; background-size: initial\; background-repeat: initial\; background-attachment: initial\; background-origin: initial\; background-clip: initial\; min-height: 1.5em\; color: rgb(39\, 168\, 199)\; font-family: arial\, &quot\;&#65357\;&#65363\; &#65360\;&#12468\;&#12471\;&#12483\;&#12463\;&quot\;\, &quot\;ms pgothic&quot\;\, &#46027\;&#50880\;\, dotum\, helvetica\, sans-serif\; font-size: 16px\;">Registration ends Sept 5th or when all the kits are claimed!</p>\n
LOCATION:Curb-side pickup! 248 Walnut St\, Pottstown\, PA 19464\, USA
UID:e.2183.856325
SEQUENCE:3
DTSTAMP:20260425T231552Z
URL:https://business.tricountyareachamber.com/events/details/around-the-world-activity-kit-856325
END:VEVENT

END:VCALENDAR
