BEGIN:VCALENDAR
VERSION:2.0
PRODID:-//ChamberMaster//Event Calendar 2.0//EN
METHOD:PUBLISH
X-PUBLISHED-TTL:P3D
REFRESH-INTERVAL:P3D
CALSCALE:GREGORIAN
BEGIN:VEVENT
DTSTART:20200916T220000Z
DTEND:20200917T000000Z
X-MICROSOFT-CDO-ALLDAYEVENT:FALSE
SUMMARY:Ask the Doctor - Parkinson's Disease
DESCRIPTION:Join us for this informative three-part  series with Dr. Edward B. Moore from Tower Health. He will be discussing  and answering your questions on the following topics:\n\nParkinson's Disease\n\nWednesday\, September 16\n\n6:00pm\n\n\n\nDementia\n\nWednesday\, October 14\n\n6:00pm\n\n\n\nDiabetes\n\nWednesday\, November 18\n\n6:00pm
X-ALT-DESC;FMTTYPE=text/html:<span style="font-size:14px\;"><span style="color:#333333\;"><span style="font-family:arial\,sans-serif\;">Join us for this informative three-part&nbsp\;&nbsp\;</span></span><span style="color:#333333\;"><span style="font-family:arial\,sans-serif\;">series with Dr. Edward B. Moore from&nbsp\;Tower Health. He will be discussing&nbsp\;&nbsp\;</span>and answering your questions on&nbsp\;</span>the following topics:</span><br />\n<strong><span style="color:#546293\;"><span style="font-family:arial\,sans-serif\;"><span style="font-size:36.0pt\;">Parkinson&rsquo\;s Disease</span></span></span></strong><br />\n<strong><span style="color:#546293\;"><span style="font-family:arial\,sans-serif\;"><span style="font-size:22.5pt\;">Wednesday\, September 16</span></span></span></strong><br />\n<span style="color:#333333\;"><span style="font-family:arial\,sans-serif\;"><span style="font-size:22.5pt\;"><strong>6:00pm</strong></span></span></span><br />\n<br />\n<strong><span style="color:#546293\;"><span style="font-family:arial\,sans-serif\;"><span style="font-size:36.0pt\;">Dementia</span></span></span></strong><br />\n<strong><span style="color:#546293\;"><span style="font-family:arial\,sans-serif\;"><span style="font-size:22.5pt\;">Wednesday\, October 14</span></span></span></strong><br />\n<span style="color:#333333\;"><span style="font-family:arial\,sans-serif\;"><span style="font-size:22.5pt\;"><strong>6:00pm</strong></span></span></span><br />\n<br />\n<span style="font-family: arial\, sans-serif\;"><span style="color: rgb(84\, 98\, 147)\; font-weight: bold\; font-size: 36pt\;">Diabetes</span></span><br />\n<strong><span style="color:#546293\;"><span style="font-family:arial\,sans-serif\;"><span style="font-size:22.5pt\;">Wednesday\, November 18</span></span></span></strong><br />\n<span style="color:#333333\;"><span style="font-family:arial\,sans-serif\;"><span style="font-size:22.5pt\;"><strong>6:00pm</strong></span></span></span>
LOCATION:Please RSVP to receive your Zoom link and send any questions relating to the topic you will be attending at least two days before the event date. Call Ann at 610-385-2030 or acarr@keystonevillaatdouglassville.com.
UID:e.2183.856331
SEQUENCE:3
DTSTAMP:20260425T214839Z
URL:https://business.tricountyareachamber.com/events/details/ask-the-doctor-parkinson-s-disease-856331
END:VEVENT

END:VCALENDAR
