BEGIN:VCALENDAR
VERSION:2.0
PRODID:-//ChamberMaster//Event Calendar 2.0//EN
METHOD:PUBLISH
X-PUBLISHED-TTL:P3D
REFRESH-INTERVAL:P3D
CALSCALE:GREGORIAN
BEGIN:VEVENT
DTSTART:20260312T220000Z
DTEND:20260312T230000Z
X-MICROSOFT-CDO-ALLDAYEVENT:FALSE
SUMMARY:Asset protection and estate planning presentation
DESCRIPTION:Learn about asset protection and estate planning during an informative presentation by Curran Estate and Elder Law PLLC at Keystone Villa at Douglassville Personal and Memory Care on Thursday\, March 12\, from 6:00 to 7:00 p.m.\, at 1152 Ben Franklin Highway E. Elder law attorney Sean Curran will discuss why proactive planning matters\, including how asset protection and estate planning can help support health care decisions\, preserve finances\, and provide clarity for loved ones. A Q&A segment will follow. Guests can enjoy complimentary wine and hot hors d'oeuvres. RSVPs are appreciated. To register\, call Rose Anne or Jen at 610-385-5002.
X-ALT-DESC;FMTTYPE=text/html:Learn about asset protection and estate planning during an informative presentation by Curran Estate and Elder Law PLLC at Keystone Villa at Douglassville&ndash\;Personal and Memory Care on Thursday\, March 12\, from 6:00 to 7:00 p.m.\, at 1152 Ben Franklin Highway E. Elder law attorney Sean Curran will discuss why proactive planning matters\, including how asset protection and estate planning can help support health care decisions\, preserve finances\, and provide clarity for loved ones. A Q&amp\;A segment will follow. Guests can enjoy complimentary wine and hot hors d&rsquo\;oeuvres. RSVPs are appreciated. To register\, call Rose Anne or Jen at 610-385-5002.
LOCATION:Keystone Villa at Douglassville\, Personal Care building\, 1152 Ben Franklin Highway E.\, Douglassville\, PA
UID:e.2183.864587
SEQUENCE:3
DTSTAMP:20260422T170514Z
URL:https://business.tricountyareachamber.com/events/details/asset-protection-and-estate-planning-presentation-864587
END:VEVENT

END:VCALENDAR
