BEGIN:VCALENDAR
VERSION:2.0
PRODID:-//ChamberMaster//Event Calendar 2.0//EN
METHOD:PUBLISH
X-PUBLISHED-TTL:P3D
REFRESH-INTERVAL:P3D
CALSCALE:GREGORIAN
BEGIN:VEVENT
DTSTART:20170127T133000Z
DTEND:20170127T150000Z
X-MICROSOFT-CDO-ALLDAYEVENT:FALSE
SUMMARY:"Attitudes for Service" Workshop
DESCRIPTION:This first in a series of "Refresh Fridays" will focus on the foundation of creating a customer service culture. Sam Iorio\, Trainer & Executive Coach\, Dale Carnegie\, will present on how applying behaviors of helpfulness\, genuine interest\, and respect moves customers from hostile or ambivalent toward supportive and enthusiastic. Customer satisfaction stems from a series of interconnected causes and disciplines\, and customer loyalty drives profitability and growth.
X-ALT-DESC;FMTTYPE=text/html:<span style="font-family:times new roman\,serif\;"><span style="font-size:12.0pt\;">This first in a series of <strong>&ldquo\;Refresh Fridays&rdquo\;</strong> will focus on the foundation of creating a <strong>customer service</strong> culture.&nbsp\;<strong>Sam Iorio</strong>\, Trainer &amp\; Executive Coach\, Dale Carnegie\, will present on how applying behaviors of helpfulness\, genuine interest\, and respect moves customers from hostile or ambivalent toward supportive and enthusiastic. Customer satisfaction stems from a series of interconnected causes and disciplines\, and customer loyalty drives profitability and growth.&nbsp\;</span></span>
LOCATION:Chamber Office 152 E. High St.\, Suite 360 Pottstown\, PA 19464
UID:e.2183.847411
SEQUENCE:3
DTSTAMP:20260420T132216Z
URL:https://business.tricountyareachamber.com/events/details/attitudes-for-service-workshop-847411
END:VEVENT

END:VCALENDAR
