BEGIN:VCALENDAR
VERSION:2.0
PRODID:-//ChamberMaster//Event Calendar 2.0//EN
METHOD:PUBLISH
X-PUBLISHED-TTL:P3D
REFRESH-INTERVAL:P3D
CALSCALE:GREGORIAN
BEGIN:VEVENT
DTSTART:20170119T170000Z
DTEND:20170119T180000Z
X-MICROSOFT-CDO-ALLDAYEVENT:FALSE
SUMMARY:Bach's Lunch: Jeff Ormsby\, Ryan Leaver & Eric Coyne
DESCRIPTION:Bring your box lunch and join us for a FREE lunchtime concert on the third Thursday of the month! These informal concerts typically feature CMS faculty members. Programs begin at 12:10 and end by 12:50pm. All ages welcome!
X-ALT-DESC;FMTTYPE=text/html:Bring your box lunch and join us for a FREE lunchtime concert on the third Thursday of the month! These informal concerts typically feature CMS faculty members. Programs begin at 12:10 and end by 12:50pm. All ages welcome!
LOCATION:Community Music School 775 W Main Street Trappe\, PA 19426
UID:e.2183.846026
SEQUENCE:3
DTSTAMP:20260420T132357Z
URL:https://business.tricountyareachamber.com/events/details/bach-s-lunch-jeff-ormsby-ryan-leaver-eric-coyne-01-19-2017-846026
END:VEVENT

END:VCALENDAR
