BEGIN:VCALENDAR
VERSION:2.0
PRODID:-//ChamberMaster//Event Calendar 2.0//EN
METHOD:PUBLISH
X-PUBLISHED-TTL:P3D
REFRESH-INTERVAL:P3D
CALSCALE:GREGORIAN
BEGIN:VEVENT
DTSTART:20170921T161000Z
DTEND:20170921T165000Z
X-MICROSOFT-CDO-ALLDAYEVENT:FALSE
SUMMARY:Bachs Lunch
DESCRIPTION:Bring your box lunch and join us for a FREE lunchtime concert on the third Thursday of the month! These typically feature CMS faculty! This months concert features Julia Morellli on Cello! All Ages are Welcome! We are also welcoming the Greater Norristown Art League at noon in our Gallery! We hope to see you all there!
X-ALT-DESC;FMTTYPE=text/html:Bring your box lunch and join us for a FREE lunchtime concert on the third Thursday of the month! These typically feature CMS faculty! This months concert features Julia Morellli on Cello! All Ages are Welcome! We are also welcoming the Greater Norristown Art League at noon in our Gallery! We hope to see you all there!
LOCATION:Community Music School 775 W. Main St. Trappe\, PA 19426
UID:e.2183.848761
SEQUENCE:3
DTSTAMP:20260421T024921Z
URL:https://business.tricountyareachamber.com/events/details/bachs-lunch-848761
END:VEVENT

END:VCALENDAR
